BEGIN:VCALENDAR
VERSION:2.0
PRODID:-//midwestchildcare.org//NONSGML kigkonsult.se iCalcreator 2.30.10//
CALSCALE:GREGORIAN
METHOD:PUBLISH
UID:7a51cfbc-9ef8-4cfe-8047-07486c8b6c0d
X-WR-CALDESC:Tap! Tap! Tap! | An Interactive Preschool Class\n\nYou are inv
 ited to a Zoom meeting.\nWhen: May 15\, 2025 10:00 AM Central Time (US and
  Canada)\n\nRegister in advance for this meeting:\nhttps://us02web.zoom.us
 /meeting/register/7RapTR5BQaqYE3qK3dSDhQ\n\nAfter registering\, you will r
 eceive a confirmation email containing information about joining the meeti
 ng.
X-WR-RELCALID:0eab1e601767428504630589da5be288
X-WR-TIMEZONE:America/Chicago
BEGIN:VTIMEZONE
TZID:America/Chicago
BEGIN:STANDARD
TZNAME:CST
DTSTART:20241103T020000
TZOFFSETFROM:-0500
TZOFFSETTO:-0600
RDATE:20251102T020000
RDATE:20261101T020000
END:STANDARD
BEGIN:DAYLIGHT
TZNAME:CDT
DTSTART:20250309T020000
TZOFFSETFROM:-0600
TZOFFSETTO:-0500
RDATE:20260308T020000
END:DAYLIGHT
END:VTIMEZONE
BEGIN:VEVENT
UID:8b2e4fb9-4229-4134-879f-d8ba37b57234
DTSTAMP:20260420T212427Z
DESCRIPTION:Tap! Tap! Tap! | An Interactive Preschool Class\n\nYou are invi
 ted to a Zoom meeting.\nWhen: May 15\, 2025 10:00 AM Central Time (US and 
 Canada)\n\nRegister in advance for this meeting:\nhttps://us02web.zoom.us/
 meeting/register/7RapTR5BQaqYE3qK3dSDhQ\n\nAfter registering\, you will re
 ceive a confirmation email containing information about joining the meetin
 g.
DTSTART;TZID=America/Chicago:20250515T100000
DTEND;TZID=America/Chicago:20250515T103000
LOCATION:https://us02web.zoom.us/meeting/register/7RapTR5BQaqYE3qK3dSDhQ
SUMMARY:Tap! Tap! Tap! | An Interactive Preschool Class
END:VEVENT
END:VCALENDAR
