BEGIN:VCALENDAR
VERSION:2.0
PRODID:-//midwestchildcare.org//NONSGML kigkonsult.se iCalcreator 2.30.10//
CALSCALE:GREGORIAN
METHOD:PUBLISH
UID:a3edb018-7f11-4394-ae01-6f4885485ad8
X-WR-CALDESC:Tap! Tap! Tap! | An Interactive Preschool Class\n\nYou are inv
 ited to a Zoom meeting.When: May 15\, 2025 09:30 AM Central Time (US and C
 anada)\n\nRegister in advance for this meeting:\nhttps://us02web.zoom.us/m
 eeting/register/rTMLLpJES9-Bs7WlVosKDA\n\nAfter registering\, you will rec
 eive a confirmation email containing information about joining the meeting
 .
X-WR-RELCALID:dbba94ec810e138091310dd220771ec4
X-WR-TIMEZONE:America/Chicago
BEGIN:VTIMEZONE
TZID:America/Chicago
BEGIN:STANDARD
TZNAME:CST
DTSTART:20241103T020000
TZOFFSETFROM:-0500
TZOFFSETTO:-0600
RDATE:20251102T020000
RDATE:20261101T020000
END:STANDARD
BEGIN:DAYLIGHT
TZNAME:CDT
DTSTART:20250309T020000
TZOFFSETFROM:-0600
TZOFFSETTO:-0500
RDATE:20260308T020000
END:DAYLIGHT
END:VTIMEZONE
BEGIN:VEVENT
UID:c0047890-74ce-4c7a-99fa-413243dece66
DTSTAMP:20260420T215540Z
DESCRIPTION:Tap! Tap! Tap! | An Interactive Preschool Class\n\nYou are invi
 ted to a Zoom meeting.When: May 15\, 2025 09:30 AM Central Time (US and Ca
 nada)\n\nRegister in advance for this meeting:\nhttps://us02web.zoom.us/me
 eting/register/rTMLLpJES9-Bs7WlVosKDA\n\nAfter registering\, you will rece
 ive a confirmation email containing information about joining the meeting.
DTSTART;TZID=America/Chicago:20250515T093000
DTEND;TZID=America/Chicago:20250515T100000
LOCATION:https://us02web.zoom.us/meeting/register/rTMLLpJES9-Bs7WlVosKDA
SUMMARY:Tap! Tap! Tap! | An Interactive Preschool Class
END:VEVENT
END:VCALENDAR
