BEGIN:VCALENDAR
VERSION:2.0
PRODID:-//midwestchildcare.org//NONSGML kigkonsult.se iCalcreator 2.30.10//
CALSCALE:GREGORIAN
METHOD:PUBLISH
UID:2013a35c-84ac-470d-bdcf-9c1c7bd57e1a
X-WR-CALDESC:Tap! Tap! Tap! | An Interactive Preschool Class\n\nYou are inv
 ited to a Zoom meeting.\nWhen: May 15\, 2025 09:00 AM Central Time (US and
  Canada)\n\nRegister in advance for this meeting:\nhttps://us02web.zoom.us
 /meeting/register/3XskQosRR5CIooWvY86tCA\n\nAfter registering\, you will r
 eceive a confirmation email containing information about joining the meeti
 ng.\n
X-WR-RELCALID:338ed289be774f9001684e9a3d1f1b80
X-WR-TIMEZONE:America/Chicago
BEGIN:VTIMEZONE
TZID:America/Chicago
BEGIN:STANDARD
TZNAME:CST
DTSTART:20241103T020000
TZOFFSETFROM:-0500
TZOFFSETTO:-0600
RDATE:20251102T020000
RDATE:20261101T020000
END:STANDARD
BEGIN:DAYLIGHT
TZNAME:CDT
DTSTART:20250309T020000
TZOFFSETFROM:-0600
TZOFFSETTO:-0500
RDATE:20260308T020000
END:DAYLIGHT
END:VTIMEZONE
BEGIN:VEVENT
UID:79358d3d-1b03-4379-a9d8-1a72b2f3856d
DTSTAMP:20260420T212400Z
DESCRIPTION:Tap! Tap! Tap! | An Interactive Preschool Class\n\nYou are invi
 ted to a Zoom meeting.\nWhen: May 15\, 2025 09:00 AM Central Time (US and 
 Canada)\n\nRegister in advance for this meeting:\nhttps://us02web.zoom.us/
 meeting/register/3XskQosRR5CIooWvY86tCA\n\nAfter registering\, you will re
 ceive a confirmation email containing information about joining the meetin
 g.\n
DTSTART;TZID=America/Chicago:20250515T090000
DTEND;TZID=America/Chicago:20250515T093000
LOCATION:https://us02web.zoom.us/meeting/register/3XskQosRR5CIooWvY86tCA
SUMMARY:Tap! Tap! Tap! | An Interactive Preschool Class
END:VEVENT
END:VCALENDAR
