BEGIN:VCALENDAR
VERSION:2.0
PRODID:-//midwestchildcare.org//NONSGML kigkonsult.se iCalcreator 2.30.10//
CALSCALE:GREGORIAN
METHOD:PUBLISH
UID:cdbe5e5a-b1f7-43fe-9b1c-f3c812cf4b31
X-WR-CALDESC:Butterflies are Pretty Gross | An Interactive Preschool Class
 \n\nYou are invited to a Zoom meeting.When: May 8\, 2025 10:00 AM Central 
 Time (US and Canada)\n\nRegister in advance for this meeting:\nhttps://us0
 2web.zoom.us/meeting/register/ftYtBZ0cQdOPGHH5AEJ1lg\n\nAfter registering\
 , you will receive a confirmation email containing information about joini
 ng the meeting.
X-WR-RELCALID:52ff18cc35bb6f26950206db13ebe6f4
X-WR-TIMEZONE:America/Chicago
BEGIN:VTIMEZONE
TZID:America/Chicago
BEGIN:STANDARD
TZNAME:CST
DTSTART:20241103T020000
TZOFFSETFROM:-0500
TZOFFSETTO:-0600
RDATE:20251102T020000
RDATE:20261101T020000
END:STANDARD
BEGIN:DAYLIGHT
TZNAME:CDT
DTSTART:20250309T020000
TZOFFSETFROM:-0600
TZOFFSETTO:-0500
RDATE:20260308T020000
END:DAYLIGHT
END:VTIMEZONE
BEGIN:VEVENT
UID:cd87b4e5-9da9-44e4-9c72-886396456da6
DTSTAMP:20260420T213439Z
DESCRIPTION:Butterflies are Pretty Gross | An Interactive Preschool Class\n
 \nYou are invited to a Zoom meeting.When: May 8\, 2025 10:00 AM Central Ti
 me (US and Canada)\n\nRegister in advance for this meeting:\nhttps://us02w
 eb.zoom.us/meeting/register/ftYtBZ0cQdOPGHH5AEJ1lg\n\nAfter registering\, 
 you will receive a confirmation email containing information about joining
  the meeting.
DTSTART;TZID=America/Chicago:20250508T100000
DTEND;TZID=America/Chicago:20250508T103000
LOCATION:https://us02web.zoom.us/meeting/register/ftYtBZ0cQdOPGHH5AEJ1lg
SUMMARY:Butterflies are Pretty Gross | An Interactive Preschool Class
END:VEVENT
END:VCALENDAR
