BEGIN:VCALENDAR
VERSION:2.0
PRODID:-//midwestchildcare.org//NONSGML kigkonsult.se iCalcreator 2.30.10//
CALSCALE:GREGORIAN
METHOD:PUBLISH
UID:f32e2fc5-710d-4578-b4cd-69b734cdba29
X-WR-CALDESC:Butterflies are Pretty Gross | An Interactive Preschool Class
 \n\nYou are invited to a Zoom meeting.When: May 8\, 2025 09:30 AM Central 
 Time (US and Canada)\n\nRegister in advance for this meeting:\nhttps://us0
 2web.zoom.us/meeting/register/AzjtWUmrQ_GbzJvgdA1ORw\n\nAfter registering\
 , you will receive a confirmation email containing information about joini
 ng the meeting.
X-WR-RELCALID:d1e296982bd6b5ce05736d3b633bfa50
X-WR-TIMEZONE:America/Chicago
BEGIN:VTIMEZONE
TZID:America/Chicago
BEGIN:STANDARD
TZNAME:CST
DTSTART:20241103T020000
TZOFFSETFROM:-0500
TZOFFSETTO:-0600
RDATE:20251102T020000
RDATE:20261101T020000
END:STANDARD
BEGIN:DAYLIGHT
TZNAME:CDT
DTSTART:20250309T020000
TZOFFSETFROM:-0600
TZOFFSETTO:-0500
RDATE:20260308T020000
END:DAYLIGHT
END:VTIMEZONE
BEGIN:VEVENT
UID:fb249ac5-92c6-439d-ba2f-5b309232bb7e
DTSTAMP:20260420T214205Z
DESCRIPTION:Butterflies are Pretty Gross | An Interactive Preschool Class\n
 \nYou are invited to a Zoom meeting.When: May 8\, 2025 09:30 AM Central Ti
 me (US and Canada)\n\nRegister in advance for this meeting:\nhttps://us02w
 eb.zoom.us/meeting/register/AzjtWUmrQ_GbzJvgdA1ORw\n\nAfter registering\, 
 you will receive a confirmation email containing information about joining
  the meeting.
DTSTART;TZID=America/Chicago:20250508T093000
DTEND;TZID=America/Chicago:20250508T100000
LOCATION:https://us02web.zoom.us/meeting/register/AzjtWUmrQ_GbzJvgdA1ORw
SUMMARY:Butterflies are Pretty Gross | An Interactive Preschool Class
END:VEVENT
END:VCALENDAR
