BEGIN:VCALENDAR
VERSION:2.0
PRODID:-//midwestchildcare.org//NONSGML kigkonsult.se iCalcreator 2.30.10//
CALSCALE:GREGORIAN
METHOD:PUBLISH
UID:45ed2d4b-d5ca-448e-b0a9-1e0ad3afb8cf
X-WR-CALDESC:Butterflies are Pretty Gross | An Interactive Preschool Class
 \n\nYou are invited to a Zoom meeting.\nWhen: May 8\, 2025 09:00 AM Centra
 l Time (US and Canada)\n\nRegister in advance for this meeting:\nhttps://u
 s02web.zoom.us/meeting/register/TX6AgBYMTV6Pke4MTL1fFA\n\nAfter registerin
 g\, you will receive a confirmation email containing information about joi
 ning the meeting.
X-WR-RELCALID:1be3b4539ff0347ab52a882d8419ff3d
X-WR-TIMEZONE:America/Chicago
BEGIN:VTIMEZONE
TZID:America/Chicago
BEGIN:STANDARD
TZNAME:CST
DTSTART:20241103T020000
TZOFFSETFROM:-0500
TZOFFSETTO:-0600
RDATE:20251102T020000
RDATE:20261101T020000
END:STANDARD
BEGIN:DAYLIGHT
TZNAME:CDT
DTSTART:20250309T020000
TZOFFSETFROM:-0600
TZOFFSETTO:-0500
RDATE:20260308T020000
END:DAYLIGHT
END:VTIMEZONE
BEGIN:VEVENT
UID:612c88a0-5db2-4f1b-a4be-e0f0e2c42628
DTSTAMP:20260420T213240Z
DESCRIPTION:Butterflies are Pretty Gross | An Interactive Preschool Class\n
 \nYou are invited to a Zoom meeting.\nWhen: May 8\, 2025 09:00 AM Central 
 Time (US and Canada)\n\nRegister in advance for this meeting:\nhttps://us0
 2web.zoom.us/meeting/register/TX6AgBYMTV6Pke4MTL1fFA\n\nAfter registering\
 , you will receive a confirmation email containing information about joini
 ng the meeting.
DTSTART;TZID=America/Chicago:20250508T090000
DTEND;TZID=America/Chicago:20250508T093000
LOCATION:https://us02web.zoom.us/meeting/register/TX6AgBYMTV6Pke4MTL1fFA
SUMMARY:Butterflies are Pretty Gross | An Interactive Preschool Class
END:VEVENT
END:VCALENDAR
