BEGIN:VCALENDAR
VERSION:2.0
PRODID:-//midwestchildcare.org//NONSGML kigkonsult.se iCalcreator 2.30.10//
CALSCALE:GREGORIAN
METHOD:PUBLISH
UID:75790448-661f-43c1-af2b-2c3c484f376f
X-WR-CALDESC:*Renewal* In-Person Class (6 PM to 8:30 PM) at Midwest Childca
 re Association\n\nClass Number:	\n32778502\n\nClass Type:	\nClassroom Traini
 ng\n\nDescription:	\nHSI Pediatric First Aid | CPR AED Child/Infant/Adult (
 2020)\n\nLocation:	\n7701 Pacific St Ste 200\nOmaha\, NE 68114\n\nDate/Time
 :	\n05/08/2025\, 6:00 PM - 8:30 PM\n\nRemaining Seats:	\n99\n\n*Renewal* In-
 Person Class\n\nTo Register:\nhttps://otis.osmanager4.com/#/openEnrollment
 ?co=1&cid=4113991
X-WR-RELCALID:573a247636a2a4ef9f0d57c3eddcb657
X-WR-TIMEZONE:America/Chicago
BEGIN:VTIMEZONE
TZID:America/Chicago
BEGIN:STANDARD
TZNAME:CST
DTSTART:20241103T020000
TZOFFSETFROM:-0500
TZOFFSETTO:-0600
RDATE:20251102T020000
RDATE:20261101T020000
END:STANDARD
BEGIN:DAYLIGHT
TZNAME:CDT
DTSTART:20250309T020000
TZOFFSETFROM:-0600
TZOFFSETTO:-0500
RDATE:20260308T020000
END:DAYLIGHT
END:VTIMEZONE
BEGIN:VEVENT
UID:0cf2ea7c-6bc0-4735-8bad-3049a1c19859
DTSTAMP:20260420T214407Z
DESCRIPTION:*Renewal* In-Person Class (6 PM to 8:30 PM) at Midwest Childcar
 e Association\n\nClass Number:	\n32778502\n\nClass Type:	\nClassroom Trainin
 g\n\nDescription:	\nHSI Pediatric First Aid | CPR AED Child/Infant/Adult (2
 020)\n\nLocation:	\n7701 Pacific St Ste 200\nOmaha\, NE 68114\n\nDate/Time:
 	\n05/08/2025\, 6:00 PM - 8:30 PM\n\nRemaining Seats:	\n99\n\n*Renewal* In-P
 erson Class\n\nTo Register:\nhttps://otis.osmanager4.com/#/openEnrollment?
 co=1&cid=4113991
DTSTART;TZID=America/Chicago:20250508T180000
DTEND;TZID=America/Chicago:20250508T203000
LOCATION:7701 Pacific St Ste 200\, Omaha\, NE 68114 US
SUMMARY:*Renewal* In-Person Class (6 PM to 8:30 PM) at Midwest Childcare As
 sociation
END:VEVENT
END:VCALENDAR
