BEGIN:VCALENDAR
VERSION:2.0
PRODID:-//midwestchildcare.org//NONSGML kigkonsult.se iCalcreator 2.30.10//
CALSCALE:GREGORIAN
METHOD:PUBLISH
UID:fee14138-602d-440c-a9ed-191276a1c184
X-WR-CALDESC:One Duck Stuck: An Interactive Preschool Class | Interactive P
 reschool Class\n\nYou are invited to a Zoom meeting.When: May 1\, 2025 10:
 00 AM Central Time (US and Canada)\n\nRegister in advance for this meeting
 :\nhttps://us02web.zoom.us/meeting/register/Gaw6hdt_QU2uvMQpRhh7kw\n\nAfte
 r registering\, you will receive a confirmation email containing informati
 on about joining the meeting.
X-WR-RELCALID:dea4f393ae9687a20d1b3e352ee938e5
X-WR-TIMEZONE:America/Chicago
BEGIN:VTIMEZONE
TZID:America/Chicago
BEGIN:STANDARD
TZNAME:CST
DTSTART:20241103T020000
TZOFFSETFROM:-0500
TZOFFSETTO:-0600
RDATE:20251102T020000
END:STANDARD
BEGIN:DAYLIGHT
TZNAME:CDT
DTSTART:20250309T020000
TZOFFSETFROM:-0600
TZOFFSETTO:-0500
RDATE:20260308T020000
END:DAYLIGHT
END:VTIMEZONE
BEGIN:VEVENT
UID:839e3849-dd0e-43ee-a677-ad1c60d7c65b
DTSTAMP:20260420T212008Z
DESCRIPTION:One Duck Stuck: An Interactive Preschool Class | Interactive Pr
 eschool Class\n\nYou are invited to a Zoom meeting.When: May 1\, 2025 10:0
 0 AM Central Time (US and Canada)\n\nRegister in advance for this meeting:
 \nhttps://us02web.zoom.us/meeting/register/Gaw6hdt_QU2uvMQpRhh7kw\n\nAfter
  registering\, you will receive a confirmation email containing informatio
 n about joining the meeting.
DTSTART;TZID=America/Chicago:20250501T100000
DTEND;TZID=America/Chicago:20250501T103000
LOCATION:https://us02web.zoom.us/meeting/register/Gaw6hdt_QU2uvMQpRhh7kw
SUMMARY:One Duck Stuck: An Interactive Preschool Class | Interactive Presch
 ool Class
END:VEVENT
END:VCALENDAR
