BEGIN:VCALENDAR
VERSION:2.0
PRODID:-//midwestchildcare.org//NONSGML kigkonsult.se iCalcreator 2.30.10//
CALSCALE:GREGORIAN
METHOD:PUBLISH
UID:9c7e1304-0f4a-405d-ae14-47f5fc99b06f
X-WR-CALDESC:One Duck Stuck: An Interactive Preschool Class | Interactive P
 reschool Class\n\nYou are invited to a Zoom meeting.When: May 1\, 2025 09:
 30 AM Central Time (US and Canada)\n\nRegister in advance for this meeting
 :\nhttps://us02web.zoom.us/meeting/register/dARfHGVnQaSHK6Z-kH4XFA\n\nAfte
 r registering\, you will receive a confirmation email containing informati
 on about joining the meeting.
X-WR-RELCALID:c96bde0ce066afb17815b72c4ca54ef8
X-WR-TIMEZONE:America/Chicago
BEGIN:VTIMEZONE
TZID:America/Chicago
BEGIN:STANDARD
TZNAME:CST
DTSTART:20241103T020000
TZOFFSETFROM:-0500
TZOFFSETTO:-0600
RDATE:20251102T020000
END:STANDARD
BEGIN:DAYLIGHT
TZNAME:CDT
DTSTART:20250309T020000
TZOFFSETFROM:-0600
TZOFFSETTO:-0500
RDATE:20260308T020000
END:DAYLIGHT
END:VTIMEZONE
BEGIN:VEVENT
UID:f07cf779-d87c-4d88-9401-af9816eb39c6
DTSTAMP:20260420T211425Z
DESCRIPTION:One Duck Stuck: An Interactive Preschool Class | Interactive Pr
 eschool Class\n\nYou are invited to a Zoom meeting.When: May 1\, 2025 09:3
 0 AM Central Time (US and Canada)\n\nRegister in advance for this meeting:
 \nhttps://us02web.zoom.us/meeting/register/dARfHGVnQaSHK6Z-kH4XFA\n\nAfter
  registering\, you will receive a confirmation email containing informatio
 n about joining the meeting.
DTSTART;TZID=America/Chicago:20250501T093000
DTEND;TZID=America/Chicago:20250501T100000
LOCATION:https://us02web.zoom.us/meeting/register/dARfHGVnQaSHK6Z-kH4XFA
SUMMARY:One Duck Stuck: An Interactive Preschool Class | Interactive Presch
 ool Class
END:VEVENT
END:VCALENDAR
