BEGIN:VCALENDAR
VERSION:2.0
PRODID:-//midwestchildcare.org//NONSGML kigkonsult.se iCalcreator 2.30.10//
CALSCALE:GREGORIAN
METHOD:PUBLISH
UID:1a0adc1e-4933-46c2-8280-b2f7dba0fde0
X-WR-CALDESC:One Duck Stuck: An Interactive Preschool Class | Interactive P
 reschool Class\n\nYou are invited to a Zoom meeting.\nWhen: May 1\, 2025 0
 9:00 AM Central Time (US and Canada)\n\nRegister in advance for this meeti
 ng:\nhttps://us02web.zoom.us/meeting/register/Au1SHncnQIOl_na_sSHaPA\n\nAf
 ter registering\, you will receive a confirmation email containing informa
 tion about joining the meeting.
X-WR-RELCALID:de1546122a6787f5071dedac62969a14
X-WR-TIMEZONE:America/Chicago
BEGIN:VTIMEZONE
TZID:America/Chicago
BEGIN:STANDARD
TZNAME:CST
DTSTART:20241103T020000
TZOFFSETFROM:-0500
TZOFFSETTO:-0600
RDATE:20251102T020000
END:STANDARD
BEGIN:DAYLIGHT
TZNAME:CDT
DTSTART:20250309T020000
TZOFFSETFROM:-0600
TZOFFSETTO:-0500
RDATE:20260308T020000
END:DAYLIGHT
END:VTIMEZONE
BEGIN:VEVENT
UID:47a44404-bf51-4602-9b01-3dab03871878
DTSTAMP:20260420T214659Z
DESCRIPTION:One Duck Stuck: An Interactive Preschool Class | Interactive Pr
 eschool Class\n\nYou are invited to a Zoom meeting.\nWhen: May 1\, 2025 09
 :00 AM Central Time (US and Canada)\n\nRegister in advance for this meetin
 g:\nhttps://us02web.zoom.us/meeting/register/Au1SHncnQIOl_na_sSHaPA\n\nAft
 er registering\, you will receive a confirmation email containing informat
 ion about joining the meeting.
DTSTART;TZID=America/Chicago:20250501T090000
DTEND;TZID=America/Chicago:20250501T100000
LOCATION:https://us02web.zoom.us/meeting/register/Au1SHncnQIOl_na_sSHaPA
SUMMARY:One Duck Stuck: An Interactive Preschool Class | Interactive Presch
 ool Class
END:VEVENT
END:VCALENDAR
