BEGIN:VCALENDAR
VERSION:2.0
PRODID:-//midwestchildcare.org//NONSGML kigkonsult.se iCalcreator 2.30.10//
CALSCALE:GREGORIAN
METHOD:PUBLISH
UID:5381a2fb-8866-41bc-8505-1fd71a05041e
X-WR-CALDESC:Gardening for your Child Care Center | 4-HOUR IN-PERSON TRAINI
 NG held at Midwest Child Care Center\n\nGardening for your Child Care Cent
 erPlease register for IN-PERSON\, 4-HOUR Gardening for Child Care Centers 
 training on Apr 5\, 2025 9:00 AM CDT at:\nhttps://attendee.gotowebinar.com
 /register/4705423128424422748\n\nAfter registering\, you will receive a co
 nfirmation email containing information about joining the webinar.\n\nBrou
 ght to you by GoTo Webinar®\nWebinars Made Easy®
X-WR-RELCALID:3c53a03d1f9a9ed0724e8085d1b5eaef
X-WR-TIMEZONE:America/Chicago
BEGIN:VTIMEZONE
TZID:America/Chicago
BEGIN:STANDARD
TZNAME:CST
DTSTART:20241103T020000
TZOFFSETFROM:-0500
TZOFFSETTO:-0600
RDATE:20251102T020000
END:STANDARD
BEGIN:DAYLIGHT
TZNAME:CDT
DTSTART:20250309T020000
TZOFFSETFROM:-0600
TZOFFSETTO:-0500
RDATE:20260308T020000
END:DAYLIGHT
END:VTIMEZONE
BEGIN:VEVENT
UID:380529ba-b108-48c0-ba00-95d43c011d0a
DTSTAMP:20260420T234126Z
DESCRIPTION:Gardening for your Child Care Center | 4-HOUR IN-PERSON TRAININ
 G held at Midwest Child Care Center\n\nGardening for your Child Care Cente
 rPlease register for IN-PERSON\, 4-HOUR Gardening for Child Care Centers t
 raining on Apr 5\, 2025 9:00 AM CDT at:\nhttps://attendee.gotowebinar.com/
 register/4705423128424422748\n\nAfter registering\, you will receive a con
 firmation email containing information about joining the webinar.\n\nBroug
 ht to you by GoTo Webinar®\nWebinars Made Easy®
DTSTART;TZID=America/Chicago:20250426T090000
DTEND;TZID=America/Chicago:20250426T130000
LOCATION:https://attendee.gotowebinar.com/register/4705423128424422748
SUMMARY:Gardening for your Child Care Center | 4-HOUR IN-PERSON TRAINING he
 ld at Midwest Child Care Center
END:VEVENT
END:VCALENDAR
