BEGIN:VCALENDAR
VERSION:2.0
PRODID:-//midwestchildcare.org//NONSGML kigkonsult.se iCalcreator 2.30.10//
CALSCALE:GREGORIAN
METHOD:PUBLISH
UID:e27cbeba-56aa-4d3d-8239-fa26a63158ee
X-WR-CALDESC:Screen Time's Affect on a Child's Overall Health | 1 Hour Webi
 nar\n\nPlease register for Screen Time's Affect on a Child's Overall Healt
 h on Apr 22\, 2025 7:00 PM CDT at:\n\nhttps://attendee.gotowebinar.com/reg
 ister/4073737206394389344\n\nAfter registering\, you will receive a confir
 mation email containing information about joining the webinar.
X-WR-RELCALID:242e0824384c7d9ffb7a1dc3b95afaab
X-WR-TIMEZONE:America/Chicago
BEGIN:VTIMEZONE
TZID:America/Chicago
BEGIN:STANDARD
TZNAME:CST
DTSTART:20241103T020000
TZOFFSETFROM:-0500
TZOFFSETTO:-0600
RDATE:20251102T020000
END:STANDARD
BEGIN:DAYLIGHT
TZNAME:CDT
DTSTART:20250309T020000
TZOFFSETFROM:-0600
TZOFFSETTO:-0500
RDATE:20260308T020000
END:DAYLIGHT
END:VTIMEZONE
BEGIN:VEVENT
UID:19a83538-bf49-43d1-b386-ad83308d90dc
DTSTAMP:20260420T233609Z
DESCRIPTION:Screen Time's Affect on a Child's Overall Health | 1 Hour Webin
 ar\n\nPlease register for Screen Time's Affect on a Child's Overall Health
  on Apr 22\, 2025 7:00 PM CDT at:\n\nhttps://attendee.gotowebinar.com/regi
 ster/4073737206394389344\n\nAfter registering\, you will receive a confirm
 ation email containing information about joining the webinar.
DTSTART;TZID=America/Chicago:20250422T190000
DTEND;TZID=America/Chicago:20250422T200000
LOCATION:https://attendee.gotowebinar.com/register/4073737206394389344
SUMMARY:Screen Time's Affect on a Child's Overall Health | 1 Hour Webinar
END:VEVENT
END:VCALENDAR
