BEGIN:VCALENDAR
VERSION:2.0
PRODID:-//midwestchildcare.org//NONSGML kigkonsult.se iCalcreator 2.30.10//
CALSCALE:GREGORIAN
METHOD:PUBLISH
UID:8ed1a4e7-37d8-43a3-a495-fae4d4c42c65
X-WR-CALDESC:HSI Pediatric First Aid | CPR AED Child/Infant/Adult (In-Perso
 n)\n\nClass Number:	\n32618361\n\nClass Type:	\nClassroom Training\n\nDescri
 ption:	\nHSI Pediatric First Aid | CPR AED Child/Infant/Adult (2020)\n\nLoc
 ation:	\n7701 Pacific St\nOmaha\, NE 68114\n\nDate/Time:	\n04/19/2025\, 9:00
  AM - 1:00 PM\n\nRemaining Seats:	\n99\n\nhttps://otis.osmanager4.com/#/ope
 nEnrollment?co=1&cid=3673041
X-WR-RELCALID:0bdf28b742b7c975e4a3a495c5f57afc
X-WR-TIMEZONE:America/Chicago
BEGIN:VTIMEZONE
TZID:America/Chicago
BEGIN:STANDARD
TZNAME:CST
DTSTART:20241103T020000
TZOFFSETFROM:-0500
TZOFFSETTO:-0600
RDATE:20251102T020000
END:STANDARD
BEGIN:DAYLIGHT
TZNAME:CDT
DTSTART:20250309T020000
TZOFFSETFROM:-0600
TZOFFSETTO:-0500
RDATE:20260308T020000
END:DAYLIGHT
END:VTIMEZONE
BEGIN:VEVENT
UID:b4dd85b1-981a-481f-9a08-87b2bc56872c
DTSTAMP:20260420T231527Z
DESCRIPTION:HSI Pediatric First Aid | CPR AED Child/Infant/Adult (In-Person
 )\n\nClass Number:	\n32618361\n\nClass Type:	\nClassroom Training\n\nDescrip
 tion:	\nHSI Pediatric First Aid | CPR AED Child/Infant/Adult (2020)\n\nLoca
 tion:	\n7701 Pacific St\nOmaha\, NE 68114\n\nDate/Time:	\n04/19/2025\, 9:00 
 AM - 1:00 PM\n\nRemaining Seats:	\n99\n\nhttps://otis.osmanager4.com/#/open
 Enrollment?co=1&cid=3673041
DTSTART;TZID=America/Chicago:20250419T090000
DTEND;TZID=America/Chicago:20250419T130000
LOCATION:https://otis.osmanager4.com/#/openEnrollment?co=1&cid=3673041
SUMMARY:HSI Pediatric First Aid | CPR AED Child/Infant/Adult (In-Person)
END:VEVENT
END:VCALENDAR
