BEGIN:VCALENDAR
VERSION:2.0
PRODID:-//midwestchildcare.org//NONSGML kigkonsult.se iCalcreator 2.30.10//
CALSCALE:GREGORIAN
METHOD:PUBLISH
UID:0e58f2de-a57a-41ea-a549-af477b3d3081
X-WR-CALDESC:Steam Train\, Dream Train | An Interactive Preschool Class \n
 \nYou are invited to a Zoom meeting.\nWhen: Apr 17\, 2025 10:00 AM Central
  Time (US and Canada)\n\nRegister in advance for this meeting:\nhttps://us
 02web.zoom.us/meeting/register/WRsGf-hwQz-GsAYFqPcijA\n\nAfter registering
 \, you will receive a confirmation email containing information about join
 ing the meeting.\n\n
X-WR-RELCALID:28524c903664cbf5747f753b9da45654
X-WR-TIMEZONE:America/Chicago
BEGIN:VTIMEZONE
TZID:America/Chicago
BEGIN:STANDARD
TZNAME:CST
DTSTART:20241103T020000
TZOFFSETFROM:-0500
TZOFFSETTO:-0600
RDATE:20251102T020000
END:STANDARD
BEGIN:DAYLIGHT
TZNAME:CDT
DTSTART:20250309T020000
TZOFFSETFROM:-0600
TZOFFSETTO:-0500
RDATE:20260308T020000
END:DAYLIGHT
END:VTIMEZONE
BEGIN:VEVENT
UID:1fa1e30e-dfe2-4870-9cd5-6c404a211c9b
DTSTAMP:20260420T230827Z
DESCRIPTION:Steam Train\, Dream Train | An Interactive Preschool Class \n\n
 You are invited to a Zoom meeting.\nWhen: Apr 17\, 2025 10:00 AM Central T
 ime (US and Canada)\n\nRegister in advance for this meeting:\nhttps://us02
 web.zoom.us/meeting/register/WRsGf-hwQz-GsAYFqPcijA\n\nAfter registering\,
  you will receive a confirmation email containing information about joinin
 g the meeting.\n\n
DTSTART;TZID=America/Chicago:20250417T100000
DTEND;TZID=America/Chicago:20250417T103000
LOCATION:https://us02web.zoom.us/meeting/register/WRsGf-hwQz-GsAYFqPcijA
SUMMARY:Steam Train\, Dream Train | An Interactive Preschool Class
END:VEVENT
END:VCALENDAR
