BEGIN:VCALENDAR
VERSION:2.0
PRODID:-//midwestchildcare.org//NONSGML kigkonsult.se iCalcreator 2.30.10//
CALSCALE:GREGORIAN
METHOD:PUBLISH
UID:bdcdd08d-14aa-478c-8381-4e77a128a83e
X-WR-CALDESC:Steam Train\, Dream Train | An Interactive Preschool Class\n\n
 You are invited to a Zoom meeting.When: Apr 17\, 2025 09:30 AM Central Tim
 e (US and Canada)\n\nRegister in advance for this meeting:\nhttps://us02we
 b.zoom.us/meeting/register/jxIpXN0CRBGPjg0p13UORQ\n\nAfter registering\, y
 ou will receive a confirmation email containing information about joining 
 the meeting.
X-WR-RELCALID:06c47c0deb2f8f762e0d4283652a00ed
X-WR-TIMEZONE:America/Chicago
BEGIN:VTIMEZONE
TZID:America/Chicago
BEGIN:STANDARD
TZNAME:CST
DTSTART:20241103T020000
TZOFFSETFROM:-0500
TZOFFSETTO:-0600
RDATE:20251102T020000
END:STANDARD
BEGIN:DAYLIGHT
TZNAME:CDT
DTSTART:20250309T020000
TZOFFSETFROM:-0600
TZOFFSETTO:-0500
RDATE:20260308T020000
END:DAYLIGHT
END:VTIMEZONE
BEGIN:VEVENT
UID:12ae3a84-9332-4455-9a5c-fca9e01e37df
DTSTAMP:20260420T231136Z
DESCRIPTION:Steam Train\, Dream Train | An Interactive Preschool Class\n\nY
 ou are invited to a Zoom meeting.When: Apr 17\, 2025 09:30 AM Central Time
  (US and Canada)\n\nRegister in advance for this meeting:\nhttps://us02web
 .zoom.us/meeting/register/jxIpXN0CRBGPjg0p13UORQ\n\nAfter registering\, yo
 u will receive a confirmation email containing information about joining t
 he meeting.
DTSTART;TZID=America/Chicago:20250417T093000
DTEND;TZID=America/Chicago:20250417T100000
LOCATION:https://us02web.zoom.us/meeting/register/jxIpXN0CRBGPjg0p13UORQ
SUMMARY:Steam Train\, Dream Train | An Interactive Preschool Class
END:VEVENT
END:VCALENDAR
