BEGIN:VCALENDAR
VERSION:2.0
PRODID:-//midwestchildcare.org//NONSGML kigkonsult.se iCalcreator 2.30.10//
CALSCALE:GREGORIAN
METHOD:PUBLISH
UID:dc1c00e7-541a-49e0-9456-b752ab17c31b
X-WR-CALDESC:Steam Train\, Dream Train | An Interactive Preschool Class\n\n
 You are invited to a Zoom meeting.\nWhen: Apr 17\, 2025 09:00 AM Central T
 ime (US and Canada)\n\nRegister in advance for this meeting:\nhttps://us02
 web.zoom.us/meeting/register/QM8B9UyiRe-P6gDYVxt0MA\n\nAfter registering\,
  you will receive a confirmation email containing information about joinin
 g the meeting.
X-WR-RELCALID:b65399baeb78676d33979521a4b74753
X-WR-TIMEZONE:America/Chicago
BEGIN:VTIMEZONE
TZID:America/Chicago
BEGIN:STANDARD
TZNAME:CST
DTSTART:20241103T020000
TZOFFSETFROM:-0500
TZOFFSETTO:-0600
RDATE:20251102T020000
END:STANDARD
BEGIN:DAYLIGHT
TZNAME:CDT
DTSTART:20250309T020000
TZOFFSETFROM:-0600
TZOFFSETTO:-0500
RDATE:20260308T020000
END:DAYLIGHT
END:VTIMEZONE
BEGIN:VEVENT
UID:5a48d0be-17a6-4360-81b0-49b89d5ca9b2
DTSTAMP:20260420T225912Z
DESCRIPTION:Steam Train\, Dream Train | An Interactive Preschool Class\n\nY
 ou are invited to a Zoom meeting.\nWhen: Apr 17\, 2025 09:00 AM Central Ti
 me (US and Canada)\n\nRegister in advance for this meeting:\nhttps://us02w
 eb.zoom.us/meeting/register/QM8B9UyiRe-P6gDYVxt0MA\n\nAfter registering\, 
 you will receive a confirmation email containing information about joining
  the meeting.
DTSTART;TZID=America/Chicago:20250417T090000
DTEND;TZID=America/Chicago:20250417T093000
LOCATION:https://us02web.zoom.us/meeting/register/QM8B9UyiRe-P6gDYVxt0MA
SUMMARY:Steam Train\, Dream Train | An Interactive Preschool Class
END:VEVENT
END:VCALENDAR
