BEGIN:VCALENDAR
VERSION:2.0
PRODID:-//midwestchildcare.org//NONSGML kigkonsult.se iCalcreator 2.30.10//
CALSCALE:GREGORIAN
METHOD:PUBLISH
UID:05884f34-bb1a-4d02-84ad-945217cc0923
X-WR-CALDESC:Breakfast and Snack Ideas to Keep Kids Healthy | 1-Hour Webina
 r\n\n1-hour- Webinars1. Please register for Breakfast and Snack Ideas to K
 eep Kids Healthy on Apr 17\, 2025 1:00 PM CDT at:\n\nhttps://attendee.goto
 webinar.com/register/8618842298105396318\n\nAfter registering\, you will r
 eceive a confirmation email containing information about joining the webin
 ar.
X-WR-RELCALID:f23f665e8b5ce953dbdefa20ca526b0e
X-WR-TIMEZONE:America/Chicago
BEGIN:VTIMEZONE
TZID:America/Chicago
BEGIN:STANDARD
TZNAME:CST
DTSTART:20241103T020000
TZOFFSETFROM:-0500
TZOFFSETTO:-0600
RDATE:20251102T020000
END:STANDARD
BEGIN:DAYLIGHT
TZNAME:CDT
DTSTART:20250309T020000
TZOFFSETFROM:-0600
TZOFFSETTO:-0500
RDATE:20260308T020000
END:DAYLIGHT
END:VTIMEZONE
BEGIN:VEVENT
UID:38a7a165-ba27-4844-9436-73784eaffcf1
DTSTAMP:20260420T230857Z
DESCRIPTION:Breakfast and Snack Ideas to Keep Kids Healthy | 1-Hour Webinar
 \n\n1-hour- Webinars1. Please register for Breakfast and Snack Ideas to Ke
 ep Kids Healthy on Apr 17\, 2025 1:00 PM CDT at:\n\nhttps://attendee.gotow
 ebinar.com/register/8618842298105396318\n\nAfter registering\, you will re
 ceive a confirmation email containing information about joining the webina
 r.
DTSTART;TZID=America/Chicago:20250417T130000
DTEND;TZID=America/Chicago:20250417T140000
LOCATION:https://attendee.gotowebinar.com/register/8618842298105396318
SUMMARY:Breakfast and Snack Ideas to Keep Kids Healthy | 1-Hour Webinar
END:VEVENT
END:VCALENDAR
