BEGIN:VCALENDAR
VERSION:2.0
PRODID:-//midwestchildcare.org//NONSGML kigkonsult.se iCalcreator 2.30.10//
CALSCALE:GREGORIAN
METHOD:PUBLISH
UID:58087ae6-c7f7-47fb-afcf-df3efaea8361
X-WR-CALDESC:Buffalo Fluffalo | An Interactive Preschool Class\n\nYou are i
 nvited to a Zoom meeting.\nWhen: Apr 10\, 2025 09:30 AM Central Time (US a
 nd Canada)\n\nRegister in advance for this meeting:\nhttps://us02web.zoom.
 us/meeting/register/rb0pYO0uSTWGzsAqROvSEA\n\nAfter registering\, you will
  receive a confirmation email containing information about joining the mee
 ting.
X-WR-RELCALID:2d9ba4caed87711b9158ccf38fac7a42
X-WR-TIMEZONE:America/Chicago
BEGIN:VTIMEZONE
TZID:America/Chicago
BEGIN:STANDARD
TZNAME:CST
DTSTART:20241103T020000
TZOFFSETFROM:-0500
TZOFFSETTO:-0600
RDATE:20251102T020000
END:STANDARD
BEGIN:DAYLIGHT
TZNAME:CDT
DTSTART:20250309T020000
TZOFFSETFROM:-0600
TZOFFSETTO:-0500
RDATE:20260308T020000
END:DAYLIGHT
END:VTIMEZONE
BEGIN:VEVENT
UID:56508f2d-55f0-404d-bb45-578d8f672c52
DTSTAMP:20260420T231641Z
DESCRIPTION:Buffalo Fluffalo | An Interactive Preschool Class\n\nYou are in
 vited to a Zoom meeting.\nWhen: Apr 10\, 2025 09:30 AM Central Time (US an
 d Canada)\n\nRegister in advance for this meeting:\nhttps://us02web.zoom.u
 s/meeting/register/rb0pYO0uSTWGzsAqROvSEA\n\nAfter registering\, you will 
 receive a confirmation email containing information about joining the meet
 ing.
DTSTART;TZID=America/Chicago:20250410T093000
DTEND;TZID=America/Chicago:20250410T100000
LOCATION:https://us02web.zoom.us/meeting/register/rb0pYO0uSTWGzsAqROvSEA
SUMMARY:Buffalo Fluffalo | An Interactive Preschool Class
END:VEVENT
END:VCALENDAR
