BEGIN:VCALENDAR
VERSION:2.0
PRODID:-//midwestchildcare.org//NONSGML kigkonsult.se iCalcreator 2.30.10//
CALSCALE:GREGORIAN
METHOD:PUBLISH
UID:f97abc1c-5b26-4404-b1d9-a2b23ad646d7
X-WR-CALDESC:Buffalo Fluffalo | An Interactive Preschool Class\n\n.You are 
 invited to a Zoom meeting.When: Apr 10\, 2025 09:00 AM Central Time (US an
 d Canada)\n\nRegister in advance for this meeting:\nhttps://us02web.zoom.u
 s/meeting/register/RVBXNPTcTKSTLPrZAlv2PQ\n\nAfter registering\, you will 
 receive a confirmation email containing information about joining the meet
 ing.
X-WR-RELCALID:4caa661cadeafdf7ce6d00417140dfcd
X-WR-TIMEZONE:America/Chicago
BEGIN:VTIMEZONE
TZID:America/Chicago
BEGIN:STANDARD
TZNAME:CST
DTSTART:20241103T020000
TZOFFSETFROM:-0500
TZOFFSETTO:-0600
RDATE:20251102T020000
END:STANDARD
BEGIN:DAYLIGHT
TZNAME:CDT
DTSTART:20250309T020000
TZOFFSETFROM:-0600
TZOFFSETTO:-0500
RDATE:20260308T020000
END:DAYLIGHT
END:VTIMEZONE
BEGIN:VEVENT
UID:59e92d5c-6cf7-4864-952f-3143ce5896b1
DTSTAMP:20260420T231630Z
DESCRIPTION:Buffalo Fluffalo | An Interactive Preschool Class\n\n.You are i
 nvited to a Zoom meeting.When: Apr 10\, 2025 09:00 AM Central Time (US and
  Canada)\n\nRegister in advance for this meeting:\nhttps://us02web.zoom.us
 /meeting/register/RVBXNPTcTKSTLPrZAlv2PQ\n\nAfter registering\, you will r
 eceive a confirmation email containing information about joining the meeti
 ng.
DTSTART;TZID=America/Chicago:20250410T090000
DTEND;TZID=America/Chicago:20250410T093000
LOCATION:https://us02web.zoom.us/meeting/register/RVBXNPTcTKSTLPrZAlv2PQ
SUMMARY:Buffalo Fluffalo | An Interactive Preschool Class
END:VEVENT
END:VCALENDAR
