BEGIN:VCALENDAR
VERSION:2.0
PRODID:-//midwestchildcare.org//NONSGML kigkonsult.se iCalcreator 2.30.10//
CALSCALE:GREGORIAN
METHOD:PUBLISH
UID:a18ba2df-6cab-49a6-9cc1-04de336bf8a0
X-WR-CALDESC:Cold\, Crunchy\, Colorful | An Interactive Preschool Class\n\n
 You are invited to a Zoom meeting.When: Apr 3\, 2025 10:00 AM Central Time
  (US and Canada)\n\nRegister in advance for this meeting:\nhttps://us02web
 .zoom.us/meeting/register/0BGTUmUGSEit8EAARmx5Cw\n\nAfter registering\, yo
 u will receive a confirmation email containing information about joining t
 he meeting.
X-WR-RELCALID:bf2a11fa178f4312de72f04091a88097
X-WR-TIMEZONE:America/Chicago
BEGIN:VTIMEZONE
TZID:America/Chicago
BEGIN:STANDARD
TZNAME:CST
DTSTART:20241103T020000
TZOFFSETFROM:-0500
TZOFFSETTO:-0600
RDATE:20251102T020000
END:STANDARD
BEGIN:DAYLIGHT
TZNAME:CDT
DTSTART:20250309T020000
TZOFFSETFROM:-0600
TZOFFSETTO:-0500
RDATE:20260308T020000
END:DAYLIGHT
END:VTIMEZONE
BEGIN:VEVENT
UID:db9a1cf1-e622-40ab-b4af-08267349f600
DTSTAMP:20260420T231817Z
DESCRIPTION:Cold\, Crunchy\, Colorful | An Interactive Preschool Class\n\nY
 ou are invited to a Zoom meeting.When: Apr 3\, 2025 10:00 AM Central Time 
 (US and Canada)\n\nRegister in advance for this meeting:\nhttps://us02web.
 zoom.us/meeting/register/0BGTUmUGSEit8EAARmx5Cw\n\nAfter registering\, you
  will receive a confirmation email containing information about joining th
 e meeting.
DTSTART;TZID=America/Chicago:20250403T100000
DTEND;TZID=America/Chicago:20250403T103000
LOCATION:https://us02web.zoom.us/meeting/register/0BGTUmUGSEit8EAARmx5Cw
SUMMARY:Cold\, Crunchy\, Colorful | An Interactive Preschool Class
END:VEVENT
END:VCALENDAR
