BEGIN:VCALENDAR
VERSION:2.0
PRODID:-//midwestchildcare.org//NONSGML kigkonsult.se iCalcreator 2.30.10//
CALSCALE:GREGORIAN
METHOD:PUBLISH
UID:54c88f56-6aa6-4e15-810e-24b297d85e1a
X-WR-CALDESC:Cold\, Crunchy\, Colorful | An Interactive Preschool Class\n\n
 You are invited to a Zoom meeting.When: Apr 3\, 2025 09:30 AM Central Time
  (US and Canada)\n\nRegister in advance for this meeting:\nhttps://us02web
 .zoom.us/meeting/register/uExEew3NTDelCtyIOdWn3Q\n\nAfter registering\, yo
 u will receive a confirmation email containing information about joining t
 he meeting.
X-WR-RELCALID:4987d32cf21ca51923a153cf73168b87
X-WR-TIMEZONE:America/Chicago
BEGIN:VTIMEZONE
TZID:America/Chicago
BEGIN:STANDARD
TZNAME:CST
DTSTART:20241103T020000
TZOFFSETFROM:-0500
TZOFFSETTO:-0600
RDATE:20251102T020000
END:STANDARD
BEGIN:DAYLIGHT
TZNAME:CDT
DTSTART:20250309T020000
TZOFFSETFROM:-0600
TZOFFSETTO:-0500
RDATE:20260308T020000
END:DAYLIGHT
END:VTIMEZONE
BEGIN:VEVENT
UID:ce1649c8-221f-4561-8f2c-8cc88469a6f8
DTSTAMP:20260420T231642Z
DESCRIPTION:Cold\, Crunchy\, Colorful | An Interactive Preschool Class\n\nY
 ou are invited to a Zoom meeting.When: Apr 3\, 2025 09:30 AM Central Time 
 (US and Canada)\n\nRegister in advance for this meeting:\nhttps://us02web.
 zoom.us/meeting/register/uExEew3NTDelCtyIOdWn3Q\n\nAfter registering\, you
  will receive a confirmation email containing information about joining th
 e meeting.
DTSTART;TZID=America/Chicago:20250403T093000
DTEND;TZID=America/Chicago:20250403T100000
LOCATION:https://us02web.zoom.us/meeting/register/uExEew3NTDelCtyIOdWn3Q
SUMMARY:Cold\, Crunchy\, Colorful | An Interactive Preschool Class
END:VEVENT
END:VCALENDAR
