BEGIN:VCALENDAR
VERSION:2.0
PRODID:-//midwestchildcare.org//NONSGML kigkonsult.se iCalcreator 2.30.10//
CALSCALE:GREGORIAN
METHOD:PUBLISH
UID:3c7944b4-17fe-4c72-a4ef-8b414e0eb78c
X-WR-CALDESC:Cold\, Crunchy\, Colorful | An Interactive Preschool Class\n\n
 You are invited to a Zoom meeting.When: Apr 3\, 2025 09:00 AM Central Time
  (US and Canada)\n\nRegister in advance for this meeting:\nhttps://us02web
 .zoom.us/meeting/register/gA1X0WmJR0e5U1XTAyCEdg\n\nAfter registering\, yo
 u will receive a confirmation email containing information about joining t
 he meeting.
X-WR-RELCALID:c735f84f0963858c2a1aa5f3bce944df
X-WR-TIMEZONE:America/Chicago
BEGIN:VTIMEZONE
TZID:America/Chicago
BEGIN:STANDARD
TZNAME:CST
DTSTART:20241103T020000
TZOFFSETFROM:-0500
TZOFFSETTO:-0600
RDATE:20251102T020000
END:STANDARD
BEGIN:DAYLIGHT
TZNAME:CDT
DTSTART:20250309T020000
TZOFFSETFROM:-0600
TZOFFSETTO:-0500
RDATE:20260308T020000
END:DAYLIGHT
END:VTIMEZONE
BEGIN:VEVENT
UID:fe49e8ad-cbf3-4610-95eb-7d654b911ff7
DTSTAMP:20260420T231623Z
DESCRIPTION:Cold\, Crunchy\, Colorful | An Interactive Preschool Class\n\nY
 ou are invited to a Zoom meeting.When: Apr 3\, 2025 09:00 AM Central Time 
 (US and Canada)\n\nRegister in advance for this meeting:\nhttps://us02web.
 zoom.us/meeting/register/gA1X0WmJR0e5U1XTAyCEdg\n\nAfter registering\, you
  will receive a confirmation email containing information about joining th
 e meeting.
DTSTART;TZID=America/Chicago:20250403T090000
DTEND;TZID=America/Chicago:20250403T093000
LOCATION:https://us02web.zoom.us/meeting/register/gA1X0WmJR0e5U1XTAyCEdg
SUMMARY:Cold\, Crunchy\, Colorful | An Interactive Preschool Class
END:VEVENT
END:VCALENDAR
