BEGIN:VCALENDAR
VERSION:2.0
PRODID:-//midwestchildcare.org//NONSGML kigkonsult.se iCalcreator 2.30.10//
CALSCALE:GREGORIAN
METHOD:PUBLISH
UID:24007903-40c5-4808-882c-162860584134
X-WR-CALDESC:Tiptoe Joe | An Interactive Preschool Class\n\nYou are invited
  to a Zoom meeting.\nWhen: Mar 27\, 2025 10:00 AM Central Time (US and Can
 ada)\n\nRegister in advance for this meeting:\nhttps://us02web.zoom.us/mee
 ting/register/fCCHoKsiRBuD-p97iH5XRw\n\nAfter registering\, you will recei
 ve a confirmation email containing information about joining the meeting.
X-WR-RELCALID:c9d81e2f40407914e23ed75d7400c63a
X-WR-TIMEZONE:America/Chicago
BEGIN:VTIMEZONE
TZID:America/Chicago
BEGIN:STANDARD
TZNAME:CST
DTSTART:20241103T020000
TZOFFSETFROM:-0500
TZOFFSETTO:-0600
RDATE:20251102T020000
END:STANDARD
BEGIN:DAYLIGHT
TZNAME:CDT
DTSTART:20250309T020000
TZOFFSETFROM:-0600
TZOFFSETTO:-0500
RDATE:20260308T020000
END:DAYLIGHT
END:VTIMEZONE
BEGIN:VEVENT
UID:01b4e70d-97f4-4ba8-8a5b-1b88ef432622
DTSTAMP:20260421T012734Z
DESCRIPTION:Tiptoe Joe | An Interactive Preschool Class\n\nYou are invited 
 to a Zoom meeting.\nWhen: Mar 27\, 2025 10:00 AM Central Time (US and Cana
 da)\n\nRegister in advance for this meeting:\nhttps://us02web.zoom.us/meet
 ing/register/fCCHoKsiRBuD-p97iH5XRw\n\nAfter registering\, you will receiv
 e a confirmation email containing information about joining the meeting.
DTSTART;TZID=America/Chicago:20250327T100000
DTEND;TZID=America/Chicago:20250327T103000
LOCATION:https://us02web.zoom.us/meeting/register/fCCHoKsiRBuD-p97iH5XRw
SUMMARY:Tiptoe Joe | An Interactive Preschool Class
END:VEVENT
END:VCALENDAR
