BEGIN:VCALENDAR
VERSION:2.0
PRODID:-//midwestchildcare.org//NONSGML kigkonsult.se iCalcreator 2.30.10//
CALSCALE:GREGORIAN
METHOD:PUBLISH
UID:abb5e30d-0b26-407a-9531-e8b3ac165314
X-WR-CALDESC:Tiptoe Joe | An Interactive Preschool Class\n\nYou are invited
  to a Zoom meeting.\nWhen: Mar 27\, 2025 09:00 AM Central Time (US and Can
 ada)\n\nRegister in advance for this meeting:\nhttps://us02web.zoom.us/mee
 ting/register/LM_lJtHuRHCUBedOzYnBzg\n\nAfter registering\, you will recei
 ve a confirmation email containing information about joining the meeting.
X-WR-RELCALID:19ded3d8002a33342fdc83de6bb942fc
X-WR-TIMEZONE:America/Chicago
BEGIN:VTIMEZONE
TZID:America/Chicago
BEGIN:STANDARD
TZNAME:CST
DTSTART:20241103T020000
TZOFFSETFROM:-0500
TZOFFSETTO:-0600
RDATE:20251102T020000
END:STANDARD
BEGIN:DAYLIGHT
TZNAME:CDT
DTSTART:20250309T020000
TZOFFSETFROM:-0600
TZOFFSETTO:-0500
RDATE:20260308T020000
END:DAYLIGHT
END:VTIMEZONE
BEGIN:VEVENT
UID:1ef6b206-3e90-4f71-a1b5-c03c97ffe117
DTSTAMP:20260421T014421Z
DESCRIPTION:Tiptoe Joe | An Interactive Preschool Class\n\nYou are invited 
 to a Zoom meeting.\nWhen: Mar 27\, 2025 09:00 AM Central Time (US and Cana
 da)\n\nRegister in advance for this meeting:\nhttps://us02web.zoom.us/meet
 ing/register/LM_lJtHuRHCUBedOzYnBzg\n\nAfter registering\, you will receiv
 e a confirmation email containing information about joining the meeting.
DTSTART;TZID=America/Chicago:20250327T090000
DTEND;TZID=America/Chicago:20250327T093000
LOCATION:https://us02web.zoom.us/meeting/register/LM_lJtHuRHCUBedOzYnBzg
SUMMARY:Tiptoe Joe | An Interactive Preschool Class
END:VEVENT
END:VCALENDAR
