BEGIN:VCALENDAR
VERSION:2.0
PRODID:-//midwestchildcare.org//NONSGML kigkonsult.se iCalcreator 2.30.10//
CALSCALE:GREGORIAN
METHOD:PUBLISH
UID:ac8ae5ef-1043-43e8-87a6-579cace403b3
X-WR-CALDESC:HSI Pediatric First Aid | CPR AED Child/Infant/Adult (2020)\n
 \nDate: \n03/20/2025\, 6:00 PM - 10:00 PM\n\nLocation:\n7701 Pacific St\nO
 maha\, NE 68114\n\nTo Register:\nhttps://otis.osmanager4.com/#/openEnrollm
 ent?co=1&cid=3673040
X-WR-RELCALID:5c7e169b062d8d3e33957f0d3c0cebdc
X-WR-TIMEZONE:America/Chicago
BEGIN:VTIMEZONE
TZID:America/Chicago
BEGIN:STANDARD
TZNAME:CST
DTSTART:20241103T020000
TZOFFSETFROM:-0500
TZOFFSETTO:-0600
RDATE:20251102T020000
END:STANDARD
BEGIN:DAYLIGHT
TZNAME:CDT
DTSTART:20250309T020000
TZOFFSETFROM:-0600
TZOFFSETTO:-0500
RDATE:20260308T020000
END:DAYLIGHT
END:VTIMEZONE
BEGIN:VEVENT
UID:e56c3792-ca6f-4358-b643-932206d3c0e9
DTSTAMP:20260421T011945Z
DESCRIPTION:HSI Pediatric First Aid | CPR AED Child/Infant/Adult (2020)\n\n
 Date: \n03/20/2025\, 6:00 PM - 10:00 PM\n\nLocation:\n7701 Pacific St\nOma
 ha\, NE 68114\n\nTo Register:\nhttps://otis.osmanager4.com/#/openEnrollmen
 t?co=1&cid=3673040
DTSTART;TZID=America/Chicago:20250320T180000
DTEND;TZID=America/Chicago:20250320T220000
LOCATION:https://otis.osmanager4.com/#/openEnrollment?co=1&cid=3673040
SUMMARY:HSI Pediatric First Aid | CPR AED Child/Infant/Adult (2020)
END:VEVENT
END:VCALENDAR
