BEGIN:VCALENDAR
VERSION:2.0
PRODID:-//midwestchildcare.org//NONSGML kigkonsult.se iCalcreator 2.30.10//
CALSCALE:GREGORIAN
METHOD:PUBLISH
UID:96e14eac-8ee8-46bd-9d83-a35523385f5b
X-WR-CALDESC:Cows Go Boo! | An Interactive Preschool Class\n\nYou are invit
 ed to a Zoom meeting.When: Mar 20\, 2025 09:00 AM Central Time (US and Can
 ada)\n\nRegister in advance for this meeting:\nhttps://us02web.zoom.us/mee
 ting/register/zRSeWW-5RFqii5gV4HvjIg\n\nAfter registering\, you will recei
 ve a confirmation email containing information about joining the meeting.
X-WR-RELCALID:dc48fb6596a0cac83e3d0d14fca531af
X-WR-TIMEZONE:America/Chicago
BEGIN:VTIMEZONE
TZID:America/Chicago
BEGIN:STANDARD
TZNAME:CST
DTSTART:20241103T020000
TZOFFSETFROM:-0500
TZOFFSETTO:-0600
RDATE:20251102T020000
END:STANDARD
BEGIN:DAYLIGHT
TZNAME:CDT
DTSTART:20250309T020000
TZOFFSETFROM:-0600
TZOFFSETTO:-0500
RDATE:20260308T020000
END:DAYLIGHT
END:VTIMEZONE
BEGIN:VEVENT
UID:c2a46cfa-6649-4231-a66e-a8da59760912
DTSTAMP:20260421T012157Z
DESCRIPTION:Cows Go Boo! | An Interactive Preschool Class\n\nYou are invite
 d to a Zoom meeting.When: Mar 20\, 2025 09:00 AM Central Time (US and Cana
 da)\n\nRegister in advance for this meeting:\nhttps://us02web.zoom.us/meet
 ing/register/zRSeWW-5RFqii5gV4HvjIg\n\nAfter registering\, you will receiv
 e a confirmation email containing information about joining the meeting.
DTSTART;TZID=America/Chicago:20250320T090000
DTEND;TZID=America/Chicago:20250320T093000
LOCATION:https://us02web.zoom.us/meeting/register/zRSeWW-5RFqii5gV4HvjIg
SUMMARY:Cows Go Boo! | An Interactive Preschool Class
END:VEVENT
END:VCALENDAR
