BEGIN:VCALENDAR
VERSION:2.0
PRODID:-//midwestchildcare.org//NONSGML kigkonsult.se iCalcreator 2.30.10//
CALSCALE:GREGORIAN
METHOD:PUBLISH
UID:b4e6bd1c-b04c-4d7d-821b-dd6bc7c3ca78
X-WR-CALDESC:Cows Go Boo! | An Interactive Preschool Class\n\nYou are invit
 ed to a Zoom meeting.\nWhen: Mar 20\, 2025 10:00 AM Central Time (US and C
 anada)\n\nRegister in advance for this meeting:\nhttps://us02web.zoom.us/m
 eeting/register/lhv7HWfQTJWhAIvmHeaKAA\n\nAfter registering\, you will rec
 eive a confirmation email containing information about joining the meeting
 .
X-WR-RELCALID:aef22f402082280bc26076353ffc18bc
X-WR-TIMEZONE:America/Chicago
BEGIN:VTIMEZONE
TZID:America/Chicago
BEGIN:STANDARD
TZNAME:CST
DTSTART:20241103T020000
TZOFFSETFROM:-0500
TZOFFSETTO:-0600
RDATE:20251102T020000
END:STANDARD
BEGIN:DAYLIGHT
TZNAME:CDT
DTSTART:20250309T020000
TZOFFSETFROM:-0600
TZOFFSETTO:-0500
RDATE:20260308T020000
END:DAYLIGHT
END:VTIMEZONE
BEGIN:VEVENT
UID:137717b6-1de7-4230-a752-dfb14f510ab2
DTSTAMP:20260421T013920Z
DESCRIPTION:Cows Go Boo! | An Interactive Preschool Class\n\nYou are invite
 d to a Zoom meeting.\nWhen: Mar 20\, 2025 10:00 AM Central Time (US and Ca
 nada)\n\nRegister in advance for this meeting:\nhttps://us02web.zoom.us/me
 eting/register/lhv7HWfQTJWhAIvmHeaKAA\n\nAfter registering\, you will rece
 ive a confirmation email containing information about joining the meeting.
DTSTART;TZID=America/Chicago:20250320T100000
DTEND;TZID=America/Chicago:20250320T110000
LOCATION:https://us02web.zoom.us/meeting/register/lhv7HWfQTJWhAIvmHeaKAA
SUMMARY:Cows Go Boo! | An Interactive Preschool Class
END:VEVENT
END:VCALENDAR
