BEGIN:VCALENDAR
VERSION:2.0
PRODID:-//midwestchildcare.org//NONSGML kigkonsult.se iCalcreator 2.30.10//
CALSCALE:GREGORIAN
METHOD:PUBLISH
UID:d434ccfe-f669-47b6-8447-883c951483ad
X-WR-CALDESC:Cows Go Boo! An Interactive Preschool Class\n\nYou are invited
  to a Zoom meeting.When: Mar 20\, 2025 09:30 AM Central Time (US and Canad
 a)\n\nRegister in advance for this meeting:\nhttps://us02web.zoom.us/meeti
 ng/register/OZ92TLxMTseO-4ZP7ww4ow\n\nAfter registering\, you will receive
  a confirmation email containing information about joining the meeting.
X-WR-RELCALID:e9da16341ca24772265d014f8ee75760
X-WR-TIMEZONE:America/Chicago
BEGIN:VTIMEZONE
TZID:America/Chicago
BEGIN:STANDARD
TZNAME:CST
DTSTART:20241103T020000
TZOFFSETFROM:-0500
TZOFFSETTO:-0600
RDATE:20251102T020000
END:STANDARD
BEGIN:DAYLIGHT
TZNAME:CDT
DTSTART:20250309T020000
TZOFFSETFROM:-0600
TZOFFSETTO:-0500
RDATE:20260308T020000
END:DAYLIGHT
END:VTIMEZONE
BEGIN:VEVENT
UID:1e1f5656-2ab6-4ebb-974b-308e76a9513f
DTSTAMP:20260421T012227Z
DESCRIPTION:Cows Go Boo! An Interactive Preschool Class\n\nYou are invited 
 to a Zoom meeting.When: Mar 20\, 2025 09:30 AM Central Time (US and Canada
 )\n\nRegister in advance for this meeting:\nhttps://us02web.zoom.us/meetin
 g/register/OZ92TLxMTseO-4ZP7ww4ow\n\nAfter registering\, you will receive 
 a confirmation email containing information about joining the meeting.
DTSTART;TZID=America/Chicago:20250320T093000
DTEND;TZID=America/Chicago:20250320T103000
LOCATION:https://us02web.zoom.us/meeting/register/OZ92TLxMTseO-4ZP7ww4ow
SUMMARY:Cows Go Boo! | An Interactive Preschool Class
END:VEVENT
END:VCALENDAR
