BEGIN:VCALENDAR
VERSION:2.0
PRODID:-//midwestchildcare.org//NONSGML kigkonsult.se iCalcreator 2.30.10//
CALSCALE:GREGORIAN
METHOD:PUBLISH
UID:23dee0d0-e27a-48fa-b3db-4744ed3f4d00
X-WR-CALDESC:Fly Blanky Fly | An Interactive Preschool Class\n\nYou are inv
 ited to a Zoom meeting\nWhen: Mar 13\, 2025 10:00 AM Central Time (US and 
 Canada)\n\nRegister in advance for this meeting:\nhttps://us02web.zoom.us/
 meeting/register/SEzbS_oHTFOCmmbhSeLwXA\n\nAfter registering\, you will re
 ceive a confirmation email containing information about joining the meetin
 g.
X-WR-RELCALID:0c6c8723a9f0384b274c0631b5f53fdf
X-WR-TIMEZONE:America/Chicago
BEGIN:VTIMEZONE
TZID:America/Chicago
BEGIN:STANDARD
TZNAME:CST
DTSTART:20241103T020000
TZOFFSETFROM:-0500
TZOFFSETTO:-0600
RDATE:20251102T020000
END:STANDARD
BEGIN:DAYLIGHT
TZNAME:CDT
DTSTART:20250309T020000
TZOFFSETFROM:-0600
TZOFFSETTO:-0500
RDATE:20260308T020000
END:DAYLIGHT
END:VTIMEZONE
BEGIN:VEVENT
UID:998a5e0c-8027-4dfa-a107-c620e8d02f31
DTSTAMP:20260421T014942Z
DESCRIPTION:Fly Blanky Fly | An Interactive Preschool Class\n\nYou are invi
 ted to a Zoom meeting\nWhen: Mar 13\, 2025 10:00 AM Central Time (US and C
 anada)\n\nRegister in advance for this meeting:\nhttps://us02web.zoom.us/m
 eeting/register/SEzbS_oHTFOCmmbhSeLwXA\n\nAfter registering\, you will rec
 eive a confirmation email containing information about joining the meeting
 .
DTSTART;TZID=America/Chicago:20250313T100000
DTEND;TZID=America/Chicago:20250313T110000
LOCATION:https://us02web.zoom.us/meeting/register/SEzbS_oHTFOCmmbhSeLwXA
SUMMARY:Fly Blanky Fly | An Interactive Preschool Class
END:VEVENT
END:VCALENDAR
