BEGIN:VCALENDAR
VERSION:2.0
PRODID:-//midwestchildcare.org//NONSGML kigkonsult.se iCalcreator 2.30.10//
CALSCALE:GREGORIAN
METHOD:PUBLISH
UID:da68a9f6-2332-441b-b667-e5d6e5463769
X-WR-CALDESC:Fly Blanky Fly | An Interactive Preschool Class\n\nYou are inv
 ited to a Zoom meeting.When: Mar 13\, 2025 09:30 AM Central Time (US and C
 anada)\n\nRegister in advance for this meeting:\nhttps://us02web.zoom.us/m
 eeting/register/irNnbGXKQyeDOlmAzf5jxw\n\nAfter registering\, you will rec
 eive a confirmation email containing information about joining the meeting
 .
X-WR-RELCALID:d00adb5a89130e5ce25e77da2068bb26
X-WR-TIMEZONE:America/Chicago
BEGIN:VTIMEZONE
TZID:America/Chicago
BEGIN:STANDARD
TZNAME:CST
DTSTART:20241103T020000
TZOFFSETFROM:-0500
TZOFFSETTO:-0600
RDATE:20251102T020000
END:STANDARD
BEGIN:DAYLIGHT
TZNAME:CDT
DTSTART:20250309T020000
TZOFFSETFROM:-0600
TZOFFSETTO:-0500
RDATE:20260308T020000
END:DAYLIGHT
END:VTIMEZONE
BEGIN:VEVENT
UID:51daf6d1-a0aa-47d2-9c08-43d2f718651b
DTSTAMP:20260421T012043Z
DESCRIPTION:Fly Blanky Fly | An Interactive Preschool Class\n\nYou are invi
 ted to a Zoom meeting.When: Mar 13\, 2025 09:30 AM Central Time (US and Ca
 nada)\n\nRegister in advance for this meeting:\nhttps://us02web.zoom.us/me
 eting/register/irNnbGXKQyeDOlmAzf5jxw\n\nAfter registering\, you will rece
 ive a confirmation email containing information about joining the meeting.
DTSTART;TZID=America/Chicago:20250313T093000
DTEND;TZID=America/Chicago:20250313T103000
LOCATION:https://us02web.zoom.us/meeting/register/irNnbGXKQyeDOlmAzf5jxw
SUMMARY:Fly Blanky Fly | An Interactive Preschool Class
END:VEVENT
END:VCALENDAR
