BEGIN:VCALENDAR
VERSION:2.0
PRODID:-//midwestchildcare.org//NONSGML kigkonsult.se iCalcreator 2.30.10//
CALSCALE:GREGORIAN
METHOD:PUBLISH
UID:ceb1397d-1766-47b4-8aa2-1b44819fcabd
X-WR-CALDESC:Fly Blanky Fly | An Interactive Preschool Class\n\nYou are inv
 ited to a Zoom meeting.\nWhen: Mar 13\, 2025 09:00 AM Central Time (US and
  Canada)\n\nRegister in advance for this meeting:\nhttps://us02web.zoom.us
 /meeting/register/rDmM27MuQ4usa4dY0E0DEg\n\nAfter registering\, you will r
 eceive a confirmation email containing information about joining the meeti
 ng.
X-WR-RELCALID:857fdc4a608e60c9027c573eba8714f8
X-WR-TIMEZONE:America/Chicago
BEGIN:VTIMEZONE
TZID:America/Chicago
BEGIN:STANDARD
TZNAME:CST
DTSTART:20241103T020000
TZOFFSETFROM:-0500
TZOFFSETTO:-0600
RDATE:20251102T020000
END:STANDARD
BEGIN:DAYLIGHT
TZNAME:CDT
DTSTART:20250309T020000
TZOFFSETFROM:-0600
TZOFFSETTO:-0500
RDATE:20260308T020000
END:DAYLIGHT
END:VTIMEZONE
BEGIN:VEVENT
UID:2d5a9ef3-8193-4da4-ac64-49a5e9159216
DTSTAMP:20260421T012346Z
DESCRIPTION:Fly Blanky Fly | An Interactive Preschool Class\n\nYou are invi
 ted to a Zoom meeting.\nWhen: Mar 13\, 2025 09:00 AM Central Time (US and 
 Canada)\n\nRegister in advance for this meeting:\nhttps://us02web.zoom.us/
 meeting/register/rDmM27MuQ4usa4dY0E0DEg\n\nAfter registering\, you will re
 ceive a confirmation email containing information about joining the meetin
 g.
DTSTART;TZID=America/Chicago:20250313T090000
DTEND;TZID=America/Chicago:20250313T100000
LOCATION:https://us02web.zoom.us/meeting/register/rDmM27MuQ4usa4dY0E0DEg
SUMMARY:Fly Blanky Fly | An Interactive Preschool Class
END:VEVENT
END:VCALENDAR
