BEGIN:VCALENDAR
VERSION:2.0
PRODID:-//midwestchildcare.org//NONSGML kigkonsult.se iCalcreator 2.30.10//
CALSCALE:GREGORIAN
METHOD:PUBLISH
UID:2cf42cd0-bebd-4a86-a2ab-91381b5af019
X-WR-CALDESC:Lead and Children: Risks and How to Minimize on | 1- HOUR WEBI
 NARS\n\nPlease register for Lead and Children: Risks and How to Minimize o
 n Mar 10\, 2025 7:00 PM CDT at:\n\nhttps://attendee.gotowebinar.com/regist
 er/5175562205833514074\n\nAfter registering\, you will receive a confirmat
 ion email containing information about joining the webinar.
X-WR-RELCALID:05741005de5882384c3e09c7bc045388
X-WR-TIMEZONE:America/Chicago
BEGIN:VTIMEZONE
TZID:America/Chicago
BEGIN:STANDARD
TZNAME:CST
DTSTART:20241103T020000
TZOFFSETFROM:-0500
TZOFFSETTO:-0600
RDATE:20251102T020000
END:STANDARD
BEGIN:DAYLIGHT
TZNAME:CDT
DTSTART:20240310T020000
TZOFFSETFROM:-0600
TZOFFSETTO:-0500
RDATE:20250309T020000
RDATE:20260308T020000
END:DAYLIGHT
END:VTIMEZONE
BEGIN:VEVENT
UID:6b7b0260-c3b4-48b6-b1ab-030962b6188d
DTSTAMP:20260421T011945Z
DESCRIPTION:Lead and Children: Risks and How to Minimize on | 1- HOUR WEBIN
 ARS\n\nPlease register for Lead and Children: Risks and How to Minimize on
  Mar 10\, 2025 7:00 PM CDT at:\n\nhttps://attendee.gotowebinar.com/registe
 r/5175562205833514074\n\nAfter registering\, you will receive a confirmati
 on email containing information about joining the webinar.
DTSTART;TZID=America/Chicago:20250310T190000
DTEND;TZID=America/Chicago:20250310T200000
LOCATION:https://attendee.gotowebinar.com/register/5175562205833514074
SUMMARY:Lead and Children: Risks and How to Minimize on | 1- HOUR WEBINARS
END:VEVENT
END:VCALENDAR
