BEGIN:VCALENDAR
VERSION:2.0
PRODID:-//midwestchildcare.org//NONSGML kigkonsult.se iCalcreator 2.30.10//
CALSCALE:GREGORIAN
METHOD:PUBLISH
UID:5e05bce5-5a86-4394-9fa1-ead0eea3575b
X-WR-CALDESC:There’s A Dragon in Your Book! | An Interactive Preschool Clas
 s\n\nYou are invited to a Zoom meeting.When: Mar 6\, 2025 09:30 AM Central
  Time (US and Canada)\n\nRegister in advance for this meeting:\nhttps://us
 02web.zoom.us/meeting/register/hH7RWIsfTWWRv-1wK7aNoQ\n\nAfter registering
 \, you will receive a confirmation email containing information about join
 ing the meeting.
X-WR-RELCALID:0f2ee5697e096277744a0d76a06eeb3f
X-WR-TIMEZONE:America/Chicago
BEGIN:VTIMEZONE
TZID:America/Chicago
BEGIN:STANDARD
TZNAME:CST
DTSTART:20241103T020000
TZOFFSETFROM:-0500
TZOFFSETTO:-0600
RDATE:20251102T020000
END:STANDARD
BEGIN:DAYLIGHT
TZNAME:CDT
DTSTART:20240310T020000
TZOFFSETFROM:-0600
TZOFFSETTO:-0500
RDATE:20250309T020000
RDATE:20260308T020000
END:DAYLIGHT
END:VTIMEZONE
BEGIN:VEVENT
UID:baaae50a-2302-47f9-95d7-4e3b0ce7b172
DTSTAMP:20260421T011945Z
DESCRIPTION:There’s A Dragon in Your Book! | An Interactive Preschool Class
 \n\nYou are invited to a Zoom meeting.When: Mar 6\, 2025 09:30 AM Central 
 Time (US and Canada)\n\nRegister in advance for this meeting:\nhttps://us0
 2web.zoom.us/meeting/register/hH7RWIsfTWWRv-1wK7aNoQ\n\nAfter registering\
 , you will receive a confirmation email containing information about joini
 ng the meeting.
DTSTART;TZID=America/Chicago:20250306T093000
DTEND;TZID=America/Chicago:20250306T103000
LOCATION:https://us02web.zoom.us/meeting/register/hH7RWIsfTWWRv-1wK7aNoQ
SUMMARY:There’s A Dragon in Your Book! | An Interactive Preschool Class
END:VEVENT
END:VCALENDAR
