BEGIN:VCALENDAR
VERSION:2.0
PRODID:-//midwestchildcare.org//NONSGML kigkonsult.se iCalcreator 2.30.10//
CALSCALE:GREGORIAN
METHOD:PUBLISH
UID:4504b14d-7133-4d76-a769-418a8e541a60
X-WR-CALDESC:There’s A Dragon in Your Book! | An Interactive Preschool Clas
 s\n\nYou are invited to a Zoom meeting.\nWhen: Mar 6\, 2025 09:00 AM Centr
 al Time (US and Canada)\n\nRegister in advance for this meeting:\nhttps://
 us02web.zoom.us/meeting/register/8sOUIuarQUSDYFII4r4I7w\n\nAfter registeri
 ng\, you will receive a confirmation email containing information about jo
 ining the meeting.
X-WR-RELCALID:34cef28bd174d93f6b3585666186e3ef
X-WR-TIMEZONE:America/Chicago
BEGIN:VTIMEZONE
TZID:America/Chicago
BEGIN:STANDARD
TZNAME:CST
DTSTART:20241103T020000
TZOFFSETFROM:-0500
TZOFFSETTO:-0600
RDATE:20251102T020000
END:STANDARD
BEGIN:DAYLIGHT
TZNAME:CDT
DTSTART:20240310T020000
TZOFFSETFROM:-0600
TZOFFSETTO:-0500
RDATE:20250309T020000
RDATE:20260308T020000
END:DAYLIGHT
END:VTIMEZONE
BEGIN:VEVENT
UID:563fc668-cc31-485f-8c07-925759c0150f
DTSTAMP:20260421T012548Z
DESCRIPTION:There’s A Dragon in Your Book! | An Interactive Preschool Class
 \n\nYou are invited to a Zoom meeting.\nWhen: Mar 6\, 2025 09:00 AM Centra
 l Time (US and Canada)\n\nRegister in advance for this meeting:\nhttps://u
 s02web.zoom.us/meeting/register/8sOUIuarQUSDYFII4r4I7w\n\nAfter registerin
 g\, you will receive a confirmation email containing information about joi
 ning the meeting.
DTSTART;TZID=America/Chicago:20250306T090000
DTEND;TZID=America/Chicago:20250306T100000
LOCATION:https://us02web.zoom.us/meeting/register/8sOUIuarQUSDYFII4r4I7w
SUMMARY:There’s A Dragon in Your Book! | An Interactive Preschool Class
END:VEVENT
END:VCALENDAR
