BEGIN:VCALENDAR
VERSION:2.0
PRODID:-//midwestchildcare.org//NONSGML kigkonsult.se iCalcreator 2.30.10//
CALSCALE:GREGORIAN
METHOD:PUBLISH
UID:d748d1da-17c6-447b-8fe6-2a771742d1e6
X-WR-CALDESC:HSI Pediatric First Aid | CPR AED Child/Infant/Adult (2020)\n
 \nDate: 03/06/2025\, 6:00 PM - 8:00 PM\n\nLocation: 7200 S 84th St\nLaVist
 a\, NE 68128\n\nTo Register:\nhttps://otis.osmanager4.com/#/openEnrollment
 ?co=1&cid=4121482
X-WR-RELCALID:df747fc4b4bdf56f6c4162a7be12638d
X-WR-TIMEZONE:America/Chicago
BEGIN:VTIMEZONE
TZID:America/Chicago
BEGIN:STANDARD
TZNAME:CST
DTSTART:20241103T020000
TZOFFSETFROM:-0500
TZOFFSETTO:-0600
RDATE:20251102T020000
END:STANDARD
BEGIN:DAYLIGHT
TZNAME:CDT
DTSTART:20240310T020000
TZOFFSETFROM:-0600
TZOFFSETTO:-0500
RDATE:20250309T020000
RDATE:20260308T020000
END:DAYLIGHT
END:VTIMEZONE
BEGIN:VEVENT
UID:f78d6908-5d82-46ec-9794-9f28defd1f65
DTSTAMP:20260421T022041Z
DESCRIPTION:HSI Pediatric First Aid | CPR AED Child/Infant/Adult (2020)\n\n
 Date: 03/06/2025\, 6:00 PM - 8:00 PM\n\nLocation: 7200 S 84th St\nLaVista\
 , NE 68128\n\nTo Register:\nhttps://otis.osmanager4.com/#/openEnrollment?c
 o=1&cid=4121482
DTSTART;TZID=America/Chicago:20250306T180000
DTEND;TZID=America/Chicago:20250306T200000
LOCATION:https://otis.osmanager4.com/#/openEnrollment?co=1&cid=4121482
SUMMARY:HSI Pediatric First Aid | CPR AED Child/Infant/Adult (2020)
END:VEVENT
END:VCALENDAR
