BEGIN:VCALENDAR
VERSION:2.0
PRODID:-//midwestchildcare.org//NONSGML kigkonsult.se iCalcreator 2.30.10//
CALSCALE:GREGORIAN
METHOD:PUBLISH
UID:0a3ec34a-bd65-46c7-a6f0-83d3ecf2fb2f
X-WR-CALDESC:Steam Train\, Dream Train | An Interactive Preschool Class\n\n
 You are invited to a Zoom meeting.\nWhen: Feb 27\, 2025 10:00 AM Central T
 ime (US and Canada)\n\nRegister in advance for this meeting:\nhttps://us02
 web.zoom.us/meeting/register/2Lm_x7IhRba0UbfvgA0e_A\n\nAfter registering\,
  you will receive a confirmation email containing information about joinin
 g the meeting.
X-WR-RELCALID:ffb161c9b88c8d4cb839cdaaa8c628fd
X-WR-TIMEZONE:America/Chicago
BEGIN:VTIMEZONE
TZID:America/Chicago
BEGIN:STANDARD
TZNAME:CST
DTSTART:20241103T020000
TZOFFSETFROM:-0500
TZOFFSETTO:-0600
RDATE:20251102T020000
END:STANDARD
BEGIN:DAYLIGHT
TZNAME:CDT
DTSTART:20240310T020000
TZOFFSETFROM:-0600
TZOFFSETTO:-0500
RDATE:20250309T020000
RDATE:20260308T020000
END:DAYLIGHT
END:VTIMEZONE
BEGIN:VEVENT
UID:002afd0c-1ea4-4bc9-b170-0576153add3c
DTSTAMP:20260421T032503Z
DESCRIPTION:Steam Train\, Dream Train | An Interactive Preschool Class\n\nY
 ou are invited to a Zoom meeting.\nWhen: Feb 27\, 2025 10:00 AM Central Ti
 me (US and Canada)\n\nRegister in advance for this meeting:\nhttps://us02w
 eb.zoom.us/meeting/register/2Lm_x7IhRba0UbfvgA0e_A\n\nAfter registering\, 
 you will receive a confirmation email containing information about joining
  the meeting.
DTSTART;TZID=America/Chicago:20250227T100000
DTEND;TZID=America/Chicago:20250227T110000
LOCATION:https://us02web.zoom.us/meeting/register/2Lm_x7IhRba0UbfvgA0e_A
SUMMARY:Steam Train\, Dream Train | An Interactive Preschool Class
END:VEVENT
END:VCALENDAR
