BEGIN:VCALENDAR
VERSION:2.0
PRODID:-//midwestchildcare.org//NONSGML kigkonsult.se iCalcreator 2.30.10//
CALSCALE:GREGORIAN
METHOD:PUBLISH
UID:09d1447b-b5d3-4bf6-9d37-e4bc972f0f17
X-WR-CALDESC:Steam Train\, Dream Train | An Interactive Preschool Class\n\n
 You are invited to a Zoom meeting.When: Feb 27\, 2025 09:30 AM Central Tim
 e (US and Canada)\n\nRegister in advance for this meeting:\nhttps://us02we
 b.zoom.us/meeting/register/LC3sUQ2pQG6rDOjO-z1zLQ\n\nAfter registering\, y
 ou will receive a confirmation email containing information about joining 
 the meeting.
X-WR-RELCALID:609007a15f880a636240b80025d145c3
X-WR-TIMEZONE:America/Chicago
BEGIN:VTIMEZONE
TZID:America/Chicago
BEGIN:STANDARD
TZNAME:CST
DTSTART:20241103T020000
TZOFFSETFROM:-0500
TZOFFSETTO:-0600
RDATE:20251102T020000
END:STANDARD
BEGIN:DAYLIGHT
TZNAME:CDT
DTSTART:20240310T020000
TZOFFSETFROM:-0600
TZOFFSETTO:-0500
RDATE:20250309T020000
RDATE:20260308T020000
END:DAYLIGHT
END:VTIMEZONE
BEGIN:VEVENT
UID:b1c747de-a4d5-4426-a36e-c822698fdce3
DTSTAMP:20260421T035334Z
DESCRIPTION:Steam Train\, Dream Train | An Interactive Preschool Class\n\nY
 ou are invited to a Zoom meeting.When: Feb 27\, 2025 09:30 AM Central Time
  (US and Canada)\n\nRegister in advance for this meeting:\nhttps://us02web
 .zoom.us/meeting/register/LC3sUQ2pQG6rDOjO-z1zLQ\n\nAfter registering\, yo
 u will receive a confirmation email containing information about joining t
 he meeting.
DTSTART;TZID=America/Chicago:20250227T093000
DTEND;TZID=America/Chicago:20250227T103000
LOCATION:https://us02web.zoom.us/meeting/register/LC3sUQ2pQG6rDOjO-z1zLQ
SUMMARY:Steam Train\, Dream Train | An Interactive Preschool Class
END:VEVENT
END:VCALENDAR
