BEGIN:VCALENDAR
VERSION:2.0
PRODID:-//midwestchildcare.org//NONSGML kigkonsult.se iCalcreator 2.30.10//
CALSCALE:GREGORIAN
METHOD:PUBLISH
UID:4b11b3ae-de53-4a77-bd73-33a9318a5a7d
X-WR-CALDESC:Steam Train\, Dream Train | An Interactive Preschool Class\n\n
 You are invited to a Zoom meeting.\nWhen: Feb 27\, 2025 09:00 AM Central T
 ime (US and Canada)\n\nRegister in advance for this meeting:\nhttps://us02
 web.zoom.us/meeting/register/DAMs4htmRwG6p6hkuSPMPg\n\nAfter registering\,
  you will receive a confirmation email containing information about joinin
 g the meeting.
X-WR-RELCALID:4b3ca54d6870d8c9948211c7b333096c
X-WR-TIMEZONE:America/Chicago
BEGIN:VTIMEZONE
TZID:America/Chicago
BEGIN:STANDARD
TZNAME:CST
DTSTART:20241103T020000
TZOFFSETFROM:-0500
TZOFFSETTO:-0600
RDATE:20251102T020000
END:STANDARD
BEGIN:DAYLIGHT
TZNAME:CDT
DTSTART:20240310T020000
TZOFFSETFROM:-0600
TZOFFSETTO:-0500
RDATE:20250309T020000
RDATE:20260308T020000
END:DAYLIGHT
END:VTIMEZONE
BEGIN:VEVENT
UID:f4db47ba-2258-419d-a012-a111ee0eca7d
DTSTAMP:20260421T032504Z
DESCRIPTION:Steam Train\, Dream Train | An Interactive Preschool Class\n\nY
 ou are invited to a Zoom meeting.\nWhen: Feb 27\, 2025 09:00 AM Central Ti
 me (US and Canada)\n\nRegister in advance for this meeting:\nhttps://us02w
 eb.zoom.us/meeting/register/DAMs4htmRwG6p6hkuSPMPg\n\nAfter registering\, 
 you will receive a confirmation email containing information about joining
  the meeting.
DTSTART;TZID=America/Chicago:20250227T090000
DTEND;TZID=America/Chicago:20250227T100000
LOCATION:https://us02web.zoom.us/meeting/register/DAMs4htmRwG6p6hkuSPMPg
SUMMARY:Steam Train\, Dream Train | An Interactive Preschool Class
END:VEVENT
END:VCALENDAR
