BEGIN:VCALENDAR
VERSION:2.0
PRODID:-//midwestchildcare.org//NONSGML kigkonsult.se iCalcreator 2.30.10//
CALSCALE:GREGORIAN
METHOD:PUBLISH
UID:23c72924-0f33-4bc8-9a0d-9d84610b3a08
X-WR-CALDESC:Relationship of Stress\, Sleep and Health\n\nPlease register f
 or Relationship of Stress\, Sleep and Health on Feb 25\, 2025 7:00 PM CST 
 at:\n\nhttps://attendee.gotowebinar.com/register/5814035413125864795\n\nAf
 ter registering\, you will receive a confirmation email containing informa
 tion about joining the webinar.
X-WR-RELCALID:22b026a5b8d80c5377704ca3d0eb3a58
X-WR-TIMEZONE:America/Chicago
BEGIN:VTIMEZONE
TZID:America/Chicago
BEGIN:STANDARD
TZNAME:CST
DTSTART:20241103T020000
TZOFFSETFROM:-0500
TZOFFSETTO:-0600
RDATE:20251102T020000
END:STANDARD
BEGIN:DAYLIGHT
TZNAME:CDT
DTSTART:20240310T020000
TZOFFSETFROM:-0600
TZOFFSETTO:-0500
RDATE:20250309T020000
RDATE:20260308T020000
END:DAYLIGHT
END:VTIMEZONE
BEGIN:VEVENT
UID:6f68c0a3-9889-4e48-9170-0fcd12f1ae20
DTSTAMP:20260421T033807Z
DESCRIPTION:Relationship of Stress\, Sleep and Health\n\nPlease register fo
 r Relationship of Stress\, Sleep and Health on Feb 25\, 2025 7:00 PM CST a
 t:\n\nhttps://attendee.gotowebinar.com/register/5814035413125864795\n\nAft
 er registering\, you will receive a confirmation email containing informat
 ion about joining the webinar.
DTSTART;TZID=America/Chicago:20250225T190000
DTEND;TZID=America/Chicago:20250225T200000
LOCATION:https://attendee.gotowebinar.com/register/5814035413125864795
SUMMARY:Relationship of Stress\, Sleep and Health
END:VEVENT
END:VCALENDAR
