BEGIN:VCALENDAR
VERSION:2.0
PRODID:-//midwestchildcare.org//NONSGML kigkonsult.se iCalcreator 2.30.10//
CALSCALE:GREGORIAN
METHOD:PUBLISH
UID:f283567a-fda1-4832-a556-53f0d218176b
X-WR-CALDESC:Relationship of Stress\, Sleep and Health | 1- HOUR WEBINARS\n
 \nPlease register for Relationship of Stress\, Sleep and Health on Feb 25\
 , 2025 7:00 PM CST at:\n\nhttps://attendee.gotowebinar.com/register/581403
 5413125864795\n\nAfter registering\, you will receive a confirmation email
  containing information about joining the webinar.
X-WR-RELCALID:08b87a583f471f1cb1888b33bf2bea62
X-WR-TIMEZONE:America/Chicago
BEGIN:VTIMEZONE
TZID:America/Chicago
BEGIN:STANDARD
TZNAME:CST
DTSTART:20241103T020000
TZOFFSETFROM:-0500
TZOFFSETTO:-0600
RDATE:20251102T020000
END:STANDARD
BEGIN:DAYLIGHT
TZNAME:CDT
DTSTART:20240310T020000
TZOFFSETFROM:-0600
TZOFFSETTO:-0500
RDATE:20250309T020000
RDATE:20260308T020000
END:DAYLIGHT
END:VTIMEZONE
BEGIN:VEVENT
UID:9e9a13c1-d640-4020-9c40-20ccbc0fe3f6
DTSTAMP:20260421T032214Z
DESCRIPTION:Relationship of Stress\, Sleep and Health | 1- HOUR WEBINARS\n
 \nPlease register for Relationship of Stress\, Sleep and Health on Feb 25\
 , 2025 7:00 PM CST at:\n\nhttps://attendee.gotowebinar.com/register/581403
 5413125864795\n\nAfter registering\, you will receive a confirmation email
  containing information about joining the webinar.
DTSTART;TZID=America/Chicago:20250225T190000
DTEND;TZID=America/Chicago:20250225T200000
LOCATION:https://attendee.gotowebinar.com/register/5814035413125864795
SUMMARY:Relationship of Stress\, Sleep and Health | 1- HOUR WEBINARS
END:VEVENT
END:VCALENDAR
