BEGIN:VCALENDAR
VERSION:2.0
PRODID:-//midwestchildcare.org//NONSGML kigkonsult.se iCalcreator 2.30.10//
CALSCALE:GREGORIAN
METHOD:PUBLISH
UID:2a1890b3-0b32-4bc2-b69d-3d118d26ca49
X-WR-CALDESC:Wiggle | An Interactive Preschool Class\n\nYou are invited to 
 a Zoom meeting.When: Feb 20\, 2025 09:30 AM Central Time (US and Canada)\n
 \nRegister in advance for this meeting:\nhttps://us02web.zoom.us/meeting/r
 egister/8CgebkYkTdKVcYo0E29xuA\n\nAfter registering\, you will receive a c
 onfirmation email containing information about joining the meeting.
X-WR-RELCALID:7db8082ee9f0d2640893858847088ba6
X-WR-TIMEZONE:America/Chicago
BEGIN:VTIMEZONE
TZID:America/Chicago
BEGIN:STANDARD
TZNAME:CST
DTSTART:20241103T020000
TZOFFSETFROM:-0500
TZOFFSETTO:-0600
RDATE:20251102T020000
END:STANDARD
BEGIN:DAYLIGHT
TZNAME:CDT
DTSTART:20240310T020000
TZOFFSETFROM:-0600
TZOFFSETTO:-0500
RDATE:20250309T020000
RDATE:20260308T020000
END:DAYLIGHT
END:VTIMEZONE
BEGIN:VEVENT
UID:941b256c-d8ad-4bf5-9392-0f7b854b2178
DTSTAMP:20260421T031116Z
DESCRIPTION:Wiggle | An Interactive Preschool Class\n\nYou are invited to a
  Zoom meeting.When: Feb 20\, 2025 09:30 AM Central Time (US and Canada)\n
 \nRegister in advance for this meeting:\nhttps://us02web.zoom.us/meeting/r
 egister/8CgebkYkTdKVcYo0E29xuA\n\nAfter registering\, you will receive a c
 onfirmation email containing information about joining the meeting.
DTSTART;TZID=America/Chicago:20250220T093000
DTEND;TZID=America/Chicago:20250220T103000
LOCATION:https://us02web.zoom.us/meeting/register/8CgebkYkTdKVcYo0E29xuA
SUMMARY:Wiggle | An Interactive Preschool Class
END:VEVENT
END:VCALENDAR
