BEGIN:VCALENDAR
VERSION:2.0
PRODID:-//midwestchildcare.org//NONSGML kigkonsult.se iCalcreator 2.30.10//
CALSCALE:GREGORIAN
METHOD:PUBLISH
UID:ba2eb757-1775-480c-9145-67fcd0fceb9d
X-WR-CALDESC:Wiggle | An Interactive Preschool Class\n\nYou are invited to 
 a Zoom meeting.\nWhen: Feb 20\, 2025 09:00 AM Central Time (US and Canada)
 \n\nRegister in advance for this meeting:\nhttps://us02web.zoom.us/meeting
 /register/zysZ81KySm2TpSR0KBufoA\n\nAfter registering\, you will receive a
  confirmation email containing information about joining the meeting.
X-WR-RELCALID:bf8996738b7209797c10e590cc26aee7
X-WR-TIMEZONE:America/Chicago
BEGIN:VTIMEZONE
TZID:America/Chicago
BEGIN:STANDARD
TZNAME:CST
DTSTART:20241103T020000
TZOFFSETFROM:-0500
TZOFFSETTO:-0600
RDATE:20251102T020000
END:STANDARD
BEGIN:DAYLIGHT
TZNAME:CDT
DTSTART:20240310T020000
TZOFFSETFROM:-0600
TZOFFSETTO:-0500
RDATE:20250309T020000
RDATE:20260308T020000
END:DAYLIGHT
END:VTIMEZONE
BEGIN:VEVENT
UID:632df25b-6001-4714-acd5-c4ce41de3339
DTSTAMP:20260421T032633Z
DESCRIPTION:Wiggle | An Interactive Preschool Class\n\nYou are invited to a
  Zoom meeting.\nWhen: Feb 20\, 2025 09:00 AM Central Time (US and Canada)
 \n\nRegister in advance for this meeting:\nhttps://us02web.zoom.us/meeting
 /register/zysZ81KySm2TpSR0KBufoA\n\nAfter registering\, you will receive a
  confirmation email containing information about joining the meeting.
DTSTART;TZID=America/Chicago:20250220T090000
DTEND;TZID=America/Chicago:20250220T100000
LOCATION:https://us02web.zoom.us/meeting/register/zysZ81KySm2TpSR0KBufoA
SUMMARY:Wiggle | An Interactive Preschool Class
END:VEVENT
END:VCALENDAR
