BEGIN:VCALENDAR
VERSION:2.0
PRODID:-//midwestchildcare.org//NONSGML kigkonsult.se iCalcreator 2.30.10//
CALSCALE:GREGORIAN
METHOD:PUBLISH
UID:8e516bd2-e333-465e-8e91-7274280c229e
X-WR-CALDESC:HSI Pediatric First Aid | CPR AED Child/Infant/Adult (2020)\n
 \nDate: 02/20/2025\, 6:00 PM - 10:00 PM\n\nLocation:	\n7200 S 84th St\nLaVi
 sta\, NE 68128\n\nTo Register:\nhttps://otis.osmanager4.com/#/openEnrollme
 nt?co=1&cid=3653220
X-WR-RELCALID:985681d2cebfa8bddb54d865e2658fc4
X-WR-TIMEZONE:America/Chicago
BEGIN:VTIMEZONE
TZID:America/Chicago
BEGIN:STANDARD
TZNAME:CST
DTSTART:20241103T020000
TZOFFSETFROM:-0500
TZOFFSETTO:-0600
RDATE:20251102T020000
END:STANDARD
BEGIN:DAYLIGHT
TZNAME:CDT
DTSTART:20240310T020000
TZOFFSETFROM:-0600
TZOFFSETTO:-0500
RDATE:20250309T020000
RDATE:20260308T020000
END:DAYLIGHT
END:VTIMEZONE
BEGIN:VEVENT
UID:5bf12b53-a0e9-4055-a1c1-e1068e2ded8a
DTSTAMP:20260421T040251Z
DESCRIPTION:HSI Pediatric First Aid | CPR AED Child/Infant/Adult (2020)\n\n
 Date: 02/20/2025\, 6:00 PM - 10:00 PM\n\nLocation:	\n7200 S 84th St\nLaVist
 a\, NE 68128\n\nTo Register:\nhttps://otis.osmanager4.com/#/openEnrollment
 ?co=1&cid=3653220
DTSTART;TZID=America/Chicago:20250220T180000
DTEND;TZID=America/Chicago:20250220T220000
LOCATION:https://otis.osmanager4.com/#/openEnrollment?co=1&cid=3653220
SUMMARY:HSI Pediatric First Aid | CPR AED Child/Infant/Adult (2020)
END:VEVENT
END:VCALENDAR
