BEGIN:VCALENDAR
VERSION:2.0
PRODID:-//midwestchildcare.org//NONSGML kigkonsult.se iCalcreator 2.30.10//
CALSCALE:GREGORIAN
METHOD:PUBLISH
UID:245fb11a-01a5-489d-a6b2-a7d3012a083f
X-WR-CALDESC:Cranky Valentine | An Interactive Preschool Class\n\nYou are i
 nvited to a Zoom meeting.When: Feb 13\, 2025 09:30 AM Central Time (US and
  Canada)\n\nRegister in advance for this meeting:\nhttps://us02web.zoom.us
 /meeting/register/94MCipKHTYWvSJRMgTyxGA\n\nAfter registering\, you will r
 eceive a confirmation email containing information about joining the meeti
 ng.
X-WR-RELCALID:2a860276b884dbd5695d01409283fc1a
X-WR-TIMEZONE:America/Chicago
BEGIN:VTIMEZONE
TZID:America/Chicago
BEGIN:STANDARD
TZNAME:CST
DTSTART:20241103T020000
TZOFFSETFROM:-0500
TZOFFSETTO:-0600
RDATE:20251102T020000
END:STANDARD
BEGIN:DAYLIGHT
TZNAME:CDT
DTSTART:20240310T020000
TZOFFSETFROM:-0600
TZOFFSETTO:-0500
RDATE:20250309T020000
RDATE:20260308T020000
END:DAYLIGHT
END:VTIMEZONE
BEGIN:VEVENT
UID:b4c83f1c-aaea-4108-b8bb-ccc9d4db7e1e
DTSTAMP:20260421T032822Z
DESCRIPTION:Cranky Valentine | An Interactive Preschool Class\n\nYou are in
 vited to a Zoom meeting.When: Feb 13\, 2025 09:30 AM Central Time (US and 
 Canada)\n\nRegister in advance for this meeting:\nhttps://us02web.zoom.us/
 meeting/register/94MCipKHTYWvSJRMgTyxGA\n\nAfter registering\, you will re
 ceive a confirmation email containing information about joining the meetin
 g.
DTSTART;TZID=America/Chicago:20250213T093000
DTEND;TZID=America/Chicago:20250213T103000
LOCATION:https://us02web.zoom.us/meeting/register/94MCipKHTYWvSJRMgTyxGA
SUMMARY:Cranky Valentine | An Interactive Preschool Class
END:VEVENT
END:VCALENDAR
