BEGIN:VCALENDAR
VERSION:2.0
PRODID:-//midwestchildcare.org//NONSGML kigkonsult.se iCalcreator 2.30.10//
CALSCALE:GREGORIAN
METHOD:PUBLISH
UID:8bcce8c2-8995-4ec1-bd32-dc3f75a02047
X-WR-CALDESC:We Forgot Brock | An Interactive Preschool Class\n\nYou are in
 vited to a Zoom meeting.\nWhen: Feb 6\, 2025 10:00 AM Central Time (US and
  Canada)\n\nRegister in advance for this meeting:\nhttps://us02web.zoom.us
 /meeting/register/Bu6a1P8PRdiP8-x9xHKHNQ\n\nAfter registering\, you will r
 eceive a confirmation email containing information about joining the meeti
 ng.
X-WR-RELCALID:a9f5b26985b327396c5957c51fa1892c
X-WR-TIMEZONE:America/Chicago
BEGIN:VTIMEZONE
TZID:America/Chicago
BEGIN:STANDARD
TZNAME:CST
DTSTART:20241103T020000
TZOFFSETFROM:-0500
TZOFFSETTO:-0600
RDATE:20251102T020000
END:STANDARD
BEGIN:DAYLIGHT
TZNAME:CDT
DTSTART:20240310T020000
TZOFFSETFROM:-0600
TZOFFSETTO:-0500
RDATE:20250309T020000
RDATE:20260308T020000
END:DAYLIGHT
END:VTIMEZONE
BEGIN:VEVENT
UID:793fe47a-0776-4544-9d4b-eadbcb21c80d
DTSTAMP:20260421T032620Z
DESCRIPTION:We Forgot Brock | An Interactive Preschool Class\n\nYou are inv
 ited to a Zoom meeting.\nWhen: Feb 6\, 2025 10:00 AM Central Time (US and 
 Canada)\n\nRegister in advance for this meeting:\nhttps://us02web.zoom.us/
 meeting/register/Bu6a1P8PRdiP8-x9xHKHNQ\n\nAfter registering\, you will re
 ceive a confirmation email containing information about joining the meetin
 g.
DTSTART;TZID=America/Chicago:20250206T100000
DTEND;TZID=America/Chicago:20250206T110000
LOCATION:https://us02web.zoom.us/meeting/register/Bu6a1P8PRdiP8-x9xHKHNQ
SUMMARY:We Forgot Brock | An Interactive Preschool Class
END:VEVENT
END:VCALENDAR
