BEGIN:VCALENDAR
VERSION:2.0
PRODID:-//midwestchildcare.org//NONSGML kigkonsult.se iCalcreator 2.30.10//
CALSCALE:GREGORIAN
METHOD:PUBLISH
UID:13267398-fa06-44ab-8bed-2013e0650c83
X-WR-CALDESC:We Forgot Brock | An Interactive Preschool Class\n\nYou are in
 vited to a Zoom meeting.When: Feb 6\, 2025 09:30 AM Central Time (US and C
 anada)\n\nRegister in advance for this meeting:\nhttps://us02web.zoom.us/m
 eeting/register/TOAl4cz8SvSr32zaWpCu7A\n\nAfter registering\, you will rec
 eive a confirmation email containing information about joining the meeting
 .
X-WR-RELCALID:993264a1c637c687034b67e885602beb
X-WR-TIMEZONE:America/Chicago
BEGIN:VTIMEZONE
TZID:America/Chicago
BEGIN:STANDARD
TZNAME:CST
DTSTART:20241103T020000
TZOFFSETFROM:-0500
TZOFFSETTO:-0600
RDATE:20251102T020000
END:STANDARD
BEGIN:DAYLIGHT
TZNAME:CDT
DTSTART:20240310T020000
TZOFFSETFROM:-0600
TZOFFSETTO:-0500
RDATE:20250309T020000
RDATE:20260308T020000
END:DAYLIGHT
END:VTIMEZONE
BEGIN:VEVENT
UID:f93babbe-bcca-4207-bba6-586bc7af23e7
DTSTAMP:20260421T032633Z
DESCRIPTION:We Forgot Brock | An Interactive Preschool Class\n\nYou are inv
 ited to a Zoom meeting.When: Feb 6\, 2025 09:30 AM Central Time (US and Ca
 nada)\n\nRegister in advance for this meeting:\nhttps://us02web.zoom.us/me
 eting/register/TOAl4cz8SvSr32zaWpCu7A\n\nAfter registering\, you will rece
 ive a confirmation email containing information about joining the meeting.
DTSTART;TZID=America/Chicago:20250206T093000
DTEND;TZID=America/Chicago:20250206T103000
LOCATION:https://us02web.zoom.us/meeting/register/TOAl4cz8SvSr32zaWpCu7A
SUMMARY:We Forgot Brock | An Interactive Preschool Class
END:VEVENT
END:VCALENDAR
