BEGIN:VCALENDAR
VERSION:2.0
PRODID:-//midwestchildcare.org//NONSGML kigkonsult.se iCalcreator 2.30.10//
CALSCALE:GREGORIAN
METHOD:PUBLISH
UID:7e0d9c26-24cf-44d1-a652-34138bc80e74
X-WR-CALDESC:We Forgot Brock | An Interactive Preschool Class\n\nYou are in
 vited to a Zoom meeting.\nWhen: Feb 6\, 2025 09:00 AM Central Time (US and
  Canada)\n\nRegister in advance for this meeting:\nhttps://us02web.zoom.us
 /meeting/register/ypXy22mUTwWVegeookEXaA\n\nAfter registering\, you will r
 eceive a confirmation email containing information about joining the meeti
 ng.
X-WR-RELCALID:7862ed4a0d2da666f35ca79b0046bac1
X-WR-TIMEZONE:America/Chicago
BEGIN:VTIMEZONE
TZID:America/Chicago
BEGIN:STANDARD
TZNAME:CST
DTSTART:20241103T020000
TZOFFSETFROM:-0500
TZOFFSETTO:-0600
RDATE:20251102T020000
END:STANDARD
BEGIN:DAYLIGHT
TZNAME:CDT
DTSTART:20240310T020000
TZOFFSETFROM:-0600
TZOFFSETTO:-0500
RDATE:20250309T020000
RDATE:20260308T020000
END:DAYLIGHT
END:VTIMEZONE
BEGIN:VEVENT
UID:7c76df52-fd8c-4315-b49c-657669f80cfa
DTSTAMP:20260421T031225Z
DESCRIPTION:We Forgot Brock | An Interactive Preschool Class\n\nYou are inv
 ited to a Zoom meeting.\nWhen: Feb 6\, 2025 09:00 AM Central Time (US and 
 Canada)\n\nRegister in advance for this meeting:\nhttps://us02web.zoom.us/
 meeting/register/ypXy22mUTwWVegeookEXaA\n\nAfter registering\, you will re
 ceive a confirmation email containing information about joining the meetin
 g.
DTSTART;TZID=America/Chicago:20250206T090000
DTEND;TZID=America/Chicago:20250206T100000
LOCATION:https://us02web.zoom.us/meeting/register/ypXy22mUTwWVegeookEXaA
SUMMARY:We Forgot Brock | An Interactive Preschool Class
END:VEVENT
END:VCALENDAR
