BEGIN:VCALENDAR
VERSION:2.0
PRODID:-//midwestchildcare.org//NONSGML kigkonsult.se iCalcreator 2.30.10//
CALSCALE:GREGORIAN
METHOD:PUBLISH
UID:40426f74-59fd-4423-bc8a-6cafafec0dad
X-WR-CALDESC:Label Reading for Better Health\n\nPlease register for Label R
 eading for Better Health on Feb 6\, 2025 1:00 PM CST at:\n\nhttps://attend
 ee.gotowebinar.com/register/3377088836439405912\n\nAfter registering\, you
  will receive a confirmation email containing information about joining th
 e webinar.
X-WR-RELCALID:89a4b64488d61e84336f9c80c564768a
X-WR-TIMEZONE:America/Chicago
BEGIN:VTIMEZONE
TZID:America/Chicago
BEGIN:STANDARD
TZNAME:CST
DTSTART:20241103T020000
TZOFFSETFROM:-0500
TZOFFSETTO:-0600
RDATE:20251102T020000
END:STANDARD
BEGIN:DAYLIGHT
TZNAME:CDT
DTSTART:20240310T020000
TZOFFSETFROM:-0600
TZOFFSETTO:-0500
RDATE:20250309T020000
RDATE:20260308T020000
END:DAYLIGHT
END:VTIMEZONE
BEGIN:VEVENT
UID:e112895a-2cb4-4d9d-a276-cb58747ac023
DTSTAMP:20260421T032448Z
DESCRIPTION:Label Reading for Better Health\n\nPlease register for Label Re
 ading for Better Health on Feb 6\, 2025 1:00 PM CST at:\n\nhttps://attende
 e.gotowebinar.com/register/3377088836439405912\n\nAfter registering\, you 
 will receive a confirmation email containing information about joining the
  webinar.
DTSTART;TZID=America/Chicago:20250206T130000
DTEND;TZID=America/Chicago:20250206T140000
LOCATION:https://attendee.gotowebinar.com/register/3377088836439405912
SUMMARY:Label Reading for Better Health
END:VEVENT
END:VCALENDAR
