BEGIN:VCALENDAR
VERSION:2.0
PRODID:-//midwestchildcare.org//NONSGML kigkonsult.se iCalcreator 2.30.10//
CALSCALE:GREGORIAN
METHOD:PUBLISH
UID:cdc32e20-8553-4ff4-a727-fafe60837229
X-WR-CALDESC:HSI Pediatric First Aid | CPR AED Child/Infant/Adult (2020)\n
 \nDate: \n02/06/2025\, 6:00 PM - 8:00 PM\n\nLocation:\n7200 S 84th St\nLaV
 ista\, NE 68118\n\nTo Register:\nhttps://otis.osmanager4.com/#/openEnrollm
 ent?co=1&cid=4052210\n
X-WR-RELCALID:17d7175cc13f30c27abb3a19dc44f753
X-WR-TIMEZONE:America/Chicago
BEGIN:VTIMEZONE
TZID:America/Chicago
BEGIN:STANDARD
TZNAME:CST
DTSTART:20241103T020000
TZOFFSETFROM:-0500
TZOFFSETTO:-0600
RDATE:20251102T020000
END:STANDARD
BEGIN:DAYLIGHT
TZNAME:CDT
DTSTART:20240310T020000
TZOFFSETFROM:-0600
TZOFFSETTO:-0500
RDATE:20250309T020000
RDATE:20260308T020000
END:DAYLIGHT
END:VTIMEZONE
BEGIN:VEVENT
UID:fb297aa8-c077-4efc-9d7b-f7f04d7c4885
DTSTAMP:20260421T032945Z
DESCRIPTION:HSI Pediatric First Aid | CPR AED Child/Infant/Adult (2020)\n\n
 Date: \n02/06/2025\, 6:00 PM - 8:00 PM\n\nLocation:\n7200 S 84th St\nLaVis
 ta\, NE 68118\n\nTo Register:\nhttps://otis.osmanager4.com/#/openEnrollmen
 t?co=1&cid=4052210\n
DTSTART;TZID=America/Chicago:20250206T180000
DTEND;TZID=America/Chicago:20250206T200000
LOCATION:https://otis.osmanager4.com/#/openEnrollment?co=1&cid=4052210
SUMMARY:HSI Pediatric First Aid | CPR AED Child/Infant/Adult (2020)
END:VEVENT
END:VCALENDAR
