BEGIN:VCALENDAR
VERSION:2.0
PRODID:-//midwestchildcare.org//NONSGML kigkonsult.se iCalcreator 2.30.10//
CALSCALE:GREGORIAN
METHOD:PUBLISH
UID:7479ad85-1017-4363-b50c-9bb26149d277
X-WR-CALDESC:Heathy Habits=Healthy Bodies\, Strategies to Promote Children'
 s Health | 4-Hour In-Person Training at Midwest Childcare\n\nPlease regist
 er for IN-PERSON TRAINING-Heathy Habits=Healthy Bodies\, Strategies to Pro
 mote Children's Health on Feb 1\, 2025 9:00 AM CST at:\n\nhttps://attendee
 .gotowebinar.com/register/1606777258662092892\n\nAfter registering\, you w
 ill receive a confirmation email containing information about joining the 
 webinar.
X-WR-RELCALID:9c8fe1bc2fff75531ba3d5a956c29984
X-WR-TIMEZONE:America/Chicago
BEGIN:VTIMEZONE
TZID:America/Chicago
BEGIN:STANDARD
TZNAME:CST
DTSTART:20241103T020000
TZOFFSETFROM:-0500
TZOFFSETTO:-0600
RDATE:20251102T020000
END:STANDARD
BEGIN:DAYLIGHT
TZNAME:CDT
DTSTART:20240310T020000
TZOFFSETFROM:-0600
TZOFFSETTO:-0500
RDATE:20250309T020000
RDATE:20260308T020000
END:DAYLIGHT
END:VTIMEZONE
BEGIN:VEVENT
UID:304f4a94-0580-4776-8731-a9d9ca07b4ee
DTSTAMP:20260421T032503Z
DESCRIPTION:Heathy Habits=Healthy Bodies\, Strategies to Promote Children's
  Health | 4-Hour In-Person Training at Midwest Childcare\n\nPlease registe
 r for IN-PERSON TRAINING-Heathy Habits=Healthy Bodies\, Strategies to Prom
 ote Children's Health on Feb 1\, 2025 9:00 AM CST at:\n\nhttps://attendee.
 gotowebinar.com/register/1606777258662092892\n\nAfter registering\, you wi
 ll receive a confirmation email containing information about joining the w
 ebinar.
DTSTART;TZID=America/Chicago:20250201T090000
DTEND;TZID=America/Chicago:20250201T130000
LOCATION:https://attendee.gotowebinar.com/register/1606777258662092892
SUMMARY:Heathy Habits=Healthy Bodies\, Strategies to Promote Children's Hea
 lth | 4-Hour In-Person Training at Midwest Childcare
END:VEVENT
END:VCALENDAR
